BEGIN:VCALENDAR
VERSION:2.0
PRODID:-//ChamberMaster//Event Calendar 2.0//EN
METHOD:PUBLISH
X-PUBLISHED-TTL:P3D
REFRESH-INTERVAL:P3D
CALSCALE:GREGORIAN
BEGIN:VEVENT
DTSTART:20250828T143000Z
DTEND:20250828T153000Z
X-MICROSOFT-CDO-ALLDAYEVENT:FALSE
SUMMARY:Coffee & Conversations at the Carlson Education Center: What is a Schooner?
DESCRIPTION:Thursday\, August 28\, 2025\n\n10:30 a.m.   11:30 a.m.\n\nCarlson Education Center\, CAM Green\n\n13 Poplar Street\, Gloucester\, MA\n\nCAM Members Free\, Non-Members $5\n\nRegistration required as space is limited\n\nUp to the early 20th century\, schooners were the workhorses of the Gloucester fisheries under sail. But visitors to the Cape Ann Museum have often asked\, "What exactly is a Schooner?"  This presentation will provide an easy-to-remember definition of a schooner and will show its evolution from a small inshore fishing boat to an extreme racing type. Ship models from the Museum's collection and photos will illustrate the presentation.    \n\nYou are invited to join us every Thursday for a unique experience. Led by a CAM docent\, these deep dives into a single artwork or object from the Collection will begin with conversation\, a short presentation and complimentary coffee at the Carlson?Education Center\, followed by a special trip to the James Center to view the object being discussed. No special knowledge needed! Just a curiosity to learn more in a small group setting and enjoy a unique experience. \n\n \n\nImage Credit: Willard E. Andrews\, model of the Henry W. Longfellow\, 2013. Collection of the Cape Ann Museum. Gift of Willard E. and Linda Andrews\, in memory of Kay Ellis\, 2016.
X-ALT-DESC;FMTTYPE=text/html:<p>Thursday\, August 28\, 2025<br />\n10:30 a.m. &ndash\; 11:30 a.m.<br />\nCarlson Education Center\,&nbsp\;<a href="https://www.capeannmuseum.org/visit/cam-green-campus/" style="box-sizing: border-box\; margin: 0px\; padding: 0px\; border-width: 0px 0px 1px\; border-top-style: initial\; border-right-style: initial\; border-bottom-style: solid\; border-left-style: initial\; border-color: rgb(211\, 211\, 211)\; border-image: initial\; font-variant: inherit\; font-weight: inherit\; font-stretch: inherit\; font-size: inherit\; line-height: inherit\; font-family: inherit\; font-optical-sizing: inherit\; font-size-adjust: inherit\; font-kerning: inherit\; font-feature-settings: inherit\; font-variation-settings: inherit\; vertical-align: baseline\; text-decoration-line: none\; outline: 0px\; max-width: 100%\; color: rgb(37\, 119\, 160)\; transition: color 0.2s\;">CAM Green</a><br />\n13 Poplar Street\, Gloucester\, MA<br />\n<em>CAM Members Free\, Non-Members $5</em><br />\n<em><a href="https://115461a.blackbaudhosting.com/115461a/Coffee--Conversations-at-the-Carlson-Education-Center-28Aug2025" style="box-sizing: border-box\; margin: 0px\; padding: 0px\; border-width: 0px 0px 1px\; border-top-style: initial\; border-right-style: initial\; border-bottom-style: solid\; border-left-style: initial\; border-color: rgb(211\, 211\, 211)\; border-image: initial\; font-style: normal\; font-variant: inherit\; font-weight: inherit\; font-stretch: inherit\; font-size: inherit\; line-height: inherit\; font-family: inherit\; font-optical-sizing: inherit\; font-size-adjust: inherit\; font-kerning: inherit\; font-feature-settings: inherit\; font-variation-settings: inherit\; vertical-align: baseline\; text-decoration-line: none\; outline: 0px\; max-width: 100%\; color: rgb(37\, 119\, 160)\; transition: color 0.2s\;">Registration required as space is limited</a></em></p>\n\n<p>Up to the early 20th century\, schooners were the workhorses of the Gloucester fisheries under sail. But visitors to the Cape Ann Museum have often asked\, &ldquo\;What exactly is a Schooner?&rdquo\;&nbsp\; This presentation will provide an easy-to-remember definition of a schooner and will show its evolution from a small inshore fishing boat to an extreme racing type. Ship models from the Museum&rsquo\;s collection and photos will illustrate the presentation.&nbsp\;&nbsp\;&nbsp\;&nbsp\;</p>\n\n<p>You are invited to join us every Thursday for a unique experience. Led by a CAM docent\, these deep dives into a single artwork or object from the Collection will begin with conversation\, a short presentation and complimentary coffee at the Carlson?Education Center\, followed by a special trip to the James Center to view the object being discussed. No special knowledge needed! Just a curiosity to learn more in a small group setting and enjoy a unique experience.&nbsp\;</p>\n\n<p>&nbsp\;</p>\n\n<p><em>Image Credit:&nbsp\;Willard E. Andrews\,&nbsp\;model of the&nbsp\;Henry W. Longfellow\,&nbsp\;2013. Collection of the Cape Ann Museum. Gift of Willard E. and Linda Andrews\, in memory of Kay Ellis\, 2016.</em></p>\n
LOCATION:Carlson Education Center\, CAM Green 13 Poplar Street\, Gloucester\, MA
UID:e.2981.37383
SEQUENCE:3
DTSTAMP:20260424T235811Z
URL:https://business.capeannchamber.com/events/details/coffee-conversations-at-the-carlson-education-center-what-is-a-schooner-37383
END:VEVENT

END:VCALENDAR
