BEGIN:VCALENDAR
VERSION:2.0
PRODID:-//ChamberMaster//Event Calendar 2.0//EN
METHOD:PUBLISH
X-PUBLISHED-TTL:P3D
REFRESH-INTERVAL:P3D
CALSCALE:GREGORIAN
BEGIN:VEVENT
DTSTART:20250731T143000Z
DTEND:20250731T153000Z
X-MICROSOFT-CDO-ALLDAYEVENT:FALSE
SUMMARY:Coffee & Conversations at the Carlson Education Center: Paul Manship
DESCRIPTION:Thursday\, July 31\, 2025\n\n10:30 a.m.   11:30 a.m.\n\nCarlson Education Center\, CAM Green\n\n13 Poplar Street\, Gloucester\, MA\n\nCAM Members Free\, Non-Members $5\n\nRegistration required as space is limited\n\nAlthough three popular bronzes by Paul Manship (1885-1966) grace the Cape Ann Museum collection  Indian Hunter and His Dog\,?Shoebill Stork\,?and?Tortoise   it is a delightful painted plaster cast also in the collection\, Daughter Pauline Frances   Three Weeks Old?(1913) we will be exploring. We will discuss some of the sculptor's favorite influences found in Pauline Frances as well as its unique effect on his view of portrait sculpture.   \n\nYou are invited to join us Thursdays for a unique experience. Led by a CAM docent\, these deep dives into a single artwork or object from the Collection will begin with conversation\, a short presentation and complimentary coffee at the Carlson?Education Center\, followed by a special trip to the James Center to view the object being discussed. No special knowledge needed! Just a curiosity to learn more in a small group setting and enjoy a unique experience. \n\n \n\nImage Credit: Paul Manship (1885-1966)\, Daughter Pauline Frances   Three Weeks Old\,?1913. Painted plaster cast. Collection of the Cape Ann Museum\, Gloucester\, MA. Museum purchase\, 2023 [2023.058].
X-ALT-DESC;FMTTYPE=text/html:<p>Thursday\, July 31\, 2025<br />\n10:30 a.m. &ndash\; 11:30 a.m.<br />\nCarlson Education Center\,&nbsp\;<a href="https://www.capeannmuseum.org/visit/cam-green-campus/" style="box-sizing: border-box\; margin: 0px\; padding: 0px\; border-width: 0px 0px 1px\; border-top-style: initial\; border-right-style: initial\; border-bottom-style: solid\; border-left-style: initial\; border-color: rgb(211\, 211\, 211)\; border-image: initial\; font-variant: inherit\; font-weight: inherit\; font-stretch: inherit\; font-size: inherit\; line-height: inherit\; font-family: inherit\; font-optical-sizing: inherit\; font-size-adjust: inherit\; font-kerning: inherit\; font-feature-settings: inherit\; font-variation-settings: inherit\; vertical-align: baseline\; text-decoration-line: none\; outline: 0px\; max-width: 100%\; color: rgb(37\, 119\, 160)\; transition: color 0.2s\;">CAM Green</a><br />\n13 Poplar Street\, Gloucester\, MA<br />\n<em>CAM Members Free\, Non-Members $5</em><br />\n<a href="https://115461a.blackbaudhosting.com/115461a/Coffee--Conversations-at-the-Carlson-Education-Center-31Jul2025" style="box-sizing: border-box\; margin: 0px\; padding: 0px\; border-width: 0px 0px 1px\; border-top-style: initial\; border-right-style: initial\; border-bottom-style: solid\; border-left-style: initial\; border-color: rgb(211\, 211\, 211)\; border-image: initial\; font-variant: inherit\; font-weight: inherit\; font-stretch: inherit\; font-size: inherit\; line-height: inherit\; font-family: inherit\; font-optical-sizing: inherit\; font-size-adjust: inherit\; font-kerning: inherit\; font-feature-settings: inherit\; font-variation-settings: inherit\; vertical-align: baseline\; text-decoration-line: none\; outline: 0px\; max-width: 100%\; color: rgb(37\, 119\, 160)\; transition: color 0.2s\;"><em>Registration required as space is limited</em></a></p>\n\n<p>Although three popular bronzes by Paul Manship (1885-1966) grace the Cape Ann Museum collection&mdash\;&nbsp\;<em>Indian Hunter and His Dog\,?Shoebill Stork\,?and?Tortoise</em>&nbsp\;&mdash\; it is a delightful painted plaster cast also in the collection\,&nbsp\;<em>Daughter Pauline Frances &mdash\; Three Weeks Old</em>?(1913) we will be exploring. We will discuss some of the sculptor&rsquo\;s favorite influences found in Pauline Frances as well as its unique effect on his view of portrait sculpture.&nbsp\;&nbsp\;&nbsp\;</p>\n\n<p>You are invited to join us Thursdays for a unique experience. Led by a CAM docent\, these deep dives into a single artwork or object from the Collection will begin with conversation\, a short presentation and complimentary coffee at the Carlson?Education Center\, followed by a special trip to the James Center to view the object being discussed. No special knowledge needed! Just a curiosity to learn more in a small group setting and enjoy a unique experience.&nbsp\;</p>\n\n<p>&nbsp\;</p>\n\n<p><em>Image Credit:&nbsp\;Paul Manship&nbsp\;(1885-1966)\,&nbsp\;Daughter Pauline Frances &mdash\; Three Weeks Old\,?1913.&nbsp\;Painted plaster cast.&nbsp\;Collection of the Cape Ann Museum\, Gloucester\, MA.&nbsp\;Museum purchase\, 2023 [2023.058].</em></p>\n
LOCATION:Carlson Education Center\, CAM Green 13 Poplar Street\, Gloucester\, MA
UID:e.2981.37380
SEQUENCE:3
DTSTAMP:20260424T223258Z
URL:https://business.capeannchamber.com/events/details/coffee-conversations-at-the-carlson-education-center-paul-manship-37380
END:VEVENT

END:VCALENDAR
