BEGIN:VCALENDAR
VERSION:2.0
PRODID:-//ChamberMaster//Event Calendar 2.0//EN
METHOD:PUBLISH
X-PUBLISHED-TTL:P3D
REFRESH-INTERVAL:P3D
CALSCALE:GREGORIAN
BEGIN:VEVENT
DTSTART:20250717T143000Z
DTEND:20250717T153000Z
X-MICROSOFT-CDO-ALLDAYEVENT:FALSE
SUMMARY:Coffee & Conversations at the Carlson Education Center: Nell Blaine
DESCRIPTION:Thursday\, July 17\, 2025\n\n10:30 a.m.   11:30 a.m.\n\nCarlson Education Center\, CAM Green\n\n13 Poplar Street\, Gloucester\, MA\n\nCAM Members Free\, Non-Members $5\n\nRegistration Required as space is limited\n\nJoin us for a presentation about artist Nell Blaine (1922-1996)\, who worked out of a studio on Rocky Neck in the 1940s and 1950s. Wharf Studio\, Gloucester reflects one such visit in 1958. Blaine was educated in representational\, realist\, and abstract methods of painting\, and was heavily influenced by the instruction of Abstract Expressionist Hans Hofmann (1880-1966).  \n\nYou are invited to join us on Thursdays for a unique experience. Led by a CAM docent\, these deep dives into a single artwork or object from the Collection will begin with conversation\, a short presentation and complimentary coffee at the Carlson?Education Center\, followed by a special trip to the James Center to view the object being discussed. No special knowledge needed! Just a curiosity to learn more in a small group setting and enjoy a unique experience. \n\n \n\nImage Credit: Nell Blaine (1922-1996)\, Wharf Studio\, Gloucester\, 1958. Oil on canvas. Collection of the Cape Ann Museum\, Gloucester\, MA. Gift of Arthur W. Cohen\, 1989 [2670].
X-ALT-DESC;FMTTYPE=text/html:<p>Thursday\, July 17\, 2025<br />\n10:30 a.m. &ndash\; 11:30 a.m.<br />\nCarlson Education Center\,&nbsp\;<a href="https://www.capeannmuseum.org/visit/cam-green-campus/" style="box-sizing: border-box\; margin: 0px\; padding: 0px\; border-width: 0px 0px 1px\; border-top-style: initial\; border-right-style: initial\; border-bottom-style: solid\; border-left-style: initial\; border-color: rgb(211\, 211\, 211)\; border-image: initial\; font-variant: inherit\; font-weight: inherit\; font-stretch: inherit\; font-size: inherit\; line-height: inherit\; font-family: inherit\; font-optical-sizing: inherit\; font-size-adjust: inherit\; font-kerning: inherit\; font-feature-settings: inherit\; font-variation-settings: inherit\; vertical-align: baseline\; text-decoration-line: none\; outline: 0px\; max-width: 100%\; color: rgb(37\, 119\, 160)\; transition: color 0.2s\;">CAM Green</a><br />\n13 Poplar Street\, Gloucester\, MA<br />\n<em>CAM Members Free\, Non-Members $5</em><br />\n<a href="https://115461a.blackbaudhosting.com/115461a/Coffee--Conversations-at-the-Carlson-Education-Center-17Jul2025" style="box-sizing: border-box\; margin: 0px\; padding: 0px\; border-width: 0px 0px 1px\; border-top-style: initial\; border-right-style: initial\; border-bottom-style: solid\; border-left-style: initial\; border-color: rgb(211\, 211\, 211)\; border-image: initial\; font-variant: inherit\; font-weight: inherit\; font-stretch: inherit\; font-size: inherit\; line-height: inherit\; font-family: inherit\; font-optical-sizing: inherit\; font-size-adjust: inherit\; font-kerning: inherit\; font-feature-settings: inherit\; font-variation-settings: inherit\; vertical-align: baseline\; text-decoration-line: none\; outline: 0px\; max-width: 100%\; color: rgb(37\, 119\, 160)\; transition: color 0.2s\;"><em>Registration Required as space is limited</em></a></p>\n\n<p>Join us for a presentation about artist Nell Blaine (1922-1996)\, who worked out of a studio on Rocky Neck in the 1940s and 1950s.&nbsp\;<em>Wharf Studio\, Gloucester</em>&nbsp\;reflects one such visit in 1958. Blaine was educated in representational\, realist\, and abstract methods of painting\, and was heavily influenced by the instruction of Abstract Expressionist Hans Hofmann (1880-1966).&nbsp\;&nbsp\;</p>\n\n<p>You are invited to join us on Thursdays for a unique experience. Led by a CAM docent\, these deep dives into a single artwork or object from the Collection will begin with conversation\, a short presentation and complimentary coffee at the Carlson?Education Center\, followed by a special trip to the James Center to view the object being discussed. No special knowledge needed! Just a curiosity to learn more in a small group setting and enjoy a unique experience.&nbsp\;</p>\n\n<p>&nbsp\;</p>\n\n<p><em>Image Credit:&nbsp\;Nell Blaine (1922-1996)\, Wharf Studio\, Gloucester\, 1958. Oil on canvas. Collection of the Cape Ann Museum\, Gloucester\, MA.&nbsp\;Gift of Arthur W. Cohen\, 1989 [2670].&nbsp\;</em></p>\n
LOCATION:Carlson Education Center\, CAM Green 13 Poplar Street\, Gloucester\, MA
UID:e.2981.37376
SEQUENCE:3
DTSTAMP:20260424T223302Z
URL:https://business.capeannchamber.com/events/details/coffee-conversations-at-the-carlson-education-center-nell-blaine-37376
END:VEVENT

END:VCALENDAR
