BEGIN:VCALENDAR
VERSION:2.0
PRODID:-//ChamberMaster//Event Calendar 2.0//EN
METHOD:PUBLISH
X-PUBLISHED-TTL:P3D
REFRESH-INTERVAL:P3D
CALSCALE:GREGORIAN
BEGIN:VEVENT
DTSTART:20250821T143000Z
DTEND:20250821T153000Z
X-MICROSOFT-CDO-ALLDAYEVENT:FALSE
SUMMARY:Coffee & Conversations at the Carlson Education Center: Childe Hassam
DESCRIPTION:Thursday\, August 21\, 2025\n\n10:30 a.m.   11:30 a.m.\n\nCarlson Education Center\, CAM Green\n\n13 Poplar Street\, Gloucester\, MA\n\nCAM Members Free\, Non-Members $5\n\nRegistration required as space is limited\n\nDespite having no formal artistic training\, Childe Hassam (1859-1935) was a successful illustrator  early in his life\, and soon became instrumental in developing Impressionism in the United States in the late 19th century. He spent some summers in Gloucester\, joining several major American painters in the region at the invitation of Frank Duveneck (1848-1919). Join us to learn about Hassam's work\, the art colonies he participated in\, and his Impressionist view of Gloucester. \n\nYou are invited to join us every Thursday for a unique experience. Led by a CAM docent\, these deep dives into a single artwork or object from the Collection will begin with conversation\, a short presentation and complimentary coffee at the Carlson?Education Center\, followed by a special trip to the James Center to view the object being discussed. No special knowledge needed! Just a curiosity to learn more in a small group setting and enjoy a unique experience. \n\n \n\nImage credit: Childe Hassam (1859-1935)\, Harbor of a Thousand Masts\,?1922. Etching on paper. Collection of the Cape Ann Museum\, Gloucester\, MA. Gift of Harold and Betty Bell\, 2003 [2003.051.004].
X-ALT-DESC;FMTTYPE=text/html:<p>Thursday\, August 21\, 2025<br />\n10:30 a.m. &ndash\; 11:30 a.m.<br />\nCarlson Education Center\,<a href="https://www.capeannmuseum.org/visit/cam-green-campus/" style="box-sizing: border-box\; margin: 0px\; padding: 0px\; border-width: 0px 0px 1px\; border-top-style: initial\; border-right-style: initial\; border-bottom-style: solid\; border-left-style: initial\; border-color: rgb(211\, 211\, 211)\; border-image: initial\; font-variant: inherit\; font-weight: inherit\; font-stretch: inherit\; font-size: inherit\; line-height: inherit\; font-family: inherit\; font-optical-sizing: inherit\; font-size-adjust: inherit\; font-kerning: inherit\; font-feature-settings: inherit\; font-variation-settings: inherit\; vertical-align: baseline\; text-decoration-line: none\; outline: 0px\; max-width: 100%\; color: rgb(37\, 119\, 160)\; transition: color 0.2s\;">&nbsp\;CAM Green</a><br />\n13 Poplar Street\, Gloucester\, MA<br />\n<em>CAM Members Free\, Non-Members $5</em><br />\n<em><a href="https://115461a.blackbaudhosting.com/115461a/Coffee--Conversations-at-the-Carlson-Education-Center-21Aug2025" style="box-sizing: border-box\; margin: 0px\; padding: 0px\; border-width: 0px 0px 1px\; border-top-style: initial\; border-right-style: initial\; border-bottom-style: solid\; border-left-style: initial\; border-color: rgb(211\, 211\, 211)\; border-image: initial\; font-style: normal\; font-variant: inherit\; font-weight: inherit\; font-stretch: inherit\; font-size: inherit\; line-height: inherit\; font-family: inherit\; font-optical-sizing: inherit\; font-size-adjust: inherit\; font-kerning: inherit\; font-feature-settings: inherit\; font-variation-settings: inherit\; vertical-align: baseline\; text-decoration-line: none\; outline: 0px\; max-width: 100%\; color: rgb(37\, 119\, 160)\; transition: color 0.2s\;">Registration required as space is limited</a></em></p>\n\n<p>Despite having no formal artistic training\, Childe Hassam (1859-1935) was a successful illustrator&nbsp\; early in his life\, and soon became instrumental in developing Impressionism in the United States in the late 19th&nbsp\;century. He spent some summers in Gloucester\, joining several major American painters in the region at the invitation of Frank Duveneck (1848-1919). Join us to learn about Hassam&rsquo\;s work\, the art colonies he participated in\, and his Impressionist view of Gloucester.&nbsp\;</p>\n\n<p>You are invited to join us every Thursday for a unique experience. Led by a CAM docent\, these deep dives into a single artwork or object from the Collection will begin with conversation\, a short presentation and complimentary coffee at the Carlson?Education Center\, followed by a special trip to the James Center to view the object being discussed. No special knowledge needed! Just a curiosity to learn more in a small group setting and enjoy a unique experience.&nbsp\;</p>\n\n<p>&nbsp\;</p>\n\n<p><em>Image credit:&nbsp\;Childe Hassam (1859-1935)\,&nbsp\;Harbor of a Thousand Masts\,?1922. Etching on paper.&nbsp\;Collection of the Cape Ann Museum\, Gloucester\, MA.&nbsp\;Gift of Harold and Betty Bell\, 2003 [2003.051.004].&nbsp\;</em></p>\n
LOCATION:Carlson Education Center\, CAM Green 13 Poplar Street\, Gloucester\, MA
UID:e.2981.37382
SEQUENCE:3
DTSTAMP:20260425T000011Z
URL:https://business.capeannchamber.com/events/details/coffee-conversations-at-the-carlson-education-center-childe-hassam-08-21-2025-37382
END:VEVENT

END:VCALENDAR
