BEGIN:VCALENDAR
VERSION:2.0
PRODID:-//ChamberMaster//Event Calendar 2.0//EN
METHOD:PUBLISH
X-PUBLISHED-TTL:P3D
REFRESH-INTERVAL:P3D
CALSCALE:GREGORIAN
BEGIN:VEVENT
DTSTART:20251022T130000Z
DTEND:20251022T140000Z
X-MICROSOFT-CDO-ALLDAYEVENT:FALSE
SUMMARY:Coffee & Connections at the Chamber - Sponsored by MassHire
DESCRIPTION:Join Us for Coffee & Connections at the Chamber   Sponsored by MassHire!\n\nThe Greater Cape Ann Chamber invites you to our upcoming in-person networking event\, Coffee & Connections\, sponsored by MassHire. This casual\, fun\, and informative morning includes an overview of Chamber initiatives and opportunities to engage.\n\nJoin members of the Ambassadors Committee\, the Chamber team\, and representatives from MassHire for a lively networking event where you can expand your business connections\, explore resources\, and discover new opportunities.\n\nThinking about joining the Chamber? If you're curious to learn more and want to meet some of our members\, this is the perfect chance to get a feel for what we're all about. Come see what makes our community so special - we'd love to meet you!
X-ALT-DESC;FMTTYPE=text/html:<p data-end="187" data-start="111"><span style="font-size:14px\;"><strong data-end="187" data-start="111">Join Us for Coffee &amp\; Connections at the Chamber &ndash\; Sponsored by MassHire!</strong></span></p>\n\n<p data-end="455" data-start="189"><span style="font-size:14px\;">The Greater Cape Ann Chamber invites you to our upcoming in-person networking event\, <strong data-end="298" data-start="274">Coffee &amp\; Connections</strong>\, sponsored by <strong data-end="333" data-start="321">MassHire</strong>. This casual\, fun\, and informative morning includes an overview of Chamber initiatives and opportunities to engage.</span></p>\n\n<p data-end="680" data-start="457"><span style="font-size:14px\;">Join members of the Ambassadors Committee\, the Chamber team\, and representatives from MassHire for a lively networking event where you can expand your business connections\, explore resources\, and discover new opportunities.</span></p>\n\n<p data-end="928" data-start="682"><span style="font-size:16px\;"><span style="font-size:14px\;"><strong data-end="721" data-start="682">Thinking about joining the Chamber?</strong> If you&#39\;re curious to learn more and want to meet some of our members\, this is the perfect chance to get a feel for what we&rsquo\;re all about. Come see what makes our community so special -&nbsp\;we&rsquo\;d love to meet yo</span>u!</span></p>\n
LOCATION:Chamber Office 24 Harbor Loop Gloucester\, MA 01930
UID:e.2981.41349
SEQUENCE:3
DTSTAMP:20260425T024141Z
URL:https://business.capeannchamber.com/events/details/coffee-connections-at-the-chamber-sponsored-by-masshire-41349
END:VEVENT

END:VCALENDAR
