BEGIN:VCALENDAR
VERSION:2.0
PRODID:-//ChamberMaster//Event Calendar 2.0//EN
METHOD:PUBLISH
X-PUBLISHED-TTL:P3D
REFRESH-INTERVAL:P3D
CALSCALE:GREGORIAN
BEGIN:VEVENT
DTSTART:20210507T130000Z
DTEND:20210507T140000Z
X-MICROSOFT-CDO-ALLDAYEVENT:FALSE
SUMMARY:Coffee & Connections Virtual Networking Event
DESCRIPTION:*For the month of May\, this event will be held on Friday\, May 7 instead of Thursday.\n\n\n\nOccurring on the first Thursday of the month at 9am\, the Cape Ann Chamber hosts Coffee & Connections.This is a casual\, fun and informative monthly networking event that includes an overview of a different Chamber Committee every month\, and then opens-up to hear from members around the Zoom room. Grab a coffee and join us for a morning of networking!
X-ALT-DESC;FMTTYPE=text/html:<span style="color:#000000\;"><span style="font-size:12px\;"><strong>*For the month of May\, this event will be held on Friday\, May 7 instead of Thursday.</strong><br />\n<br />\nOccurring on the first Thursday of the month at 9am\, the Cape Ann Chamber hosts&nbsp\;<em>Coffee &amp\; Connections.</em>This is a casual\, fun and informative monthly networking event that includes an overview of a different Chamber Committee every month\, and then opens-up to hear from members around the Zoom room. Grab a coffee and join us for a morning of networking!</span></span>
LOCATION:To register for the Zoom meeting\, click here: https://us02web.zoom.us/meeting/register/tZIkdOCrpjgvHdTqWFpkj2Fyi5Xk7Wtdx_7C Participants will need to register using this link\, before every Coffee & Connections Meeting Passcode: 418057
UID:e.2981.20442
SEQUENCE:3
DTSTAMP:20260419T185626Z
URL:https://business.capeannchamber.com/events/details/coffee-connections-05-06-2021-20442
END:VEVENT

END:VCALENDAR
