BEGIN:VCALENDAR
VERSION:2.0
PRODID:-//ChamberMaster//Event Calendar 2.0//EN
METHOD:PUBLISH
X-PUBLISHED-TTL:P3D
REFRESH-INTERVAL:P3D
CALSCALE:GREGORIAN
BEGIN:VEVENT
DTSTART:20251015T220000Z
DTEND:20251015T233000Z
X-MICROSOFT-CDO-ALLDAYEVENT:FALSE
SUMMARY:Coastal Lecture: Oyster Restoration with Mass Oyster Project
DESCRIPTION:Join us for a lecture and Q&A\, to learn about the important habitat restoration work of the Massachusetts Oyster Project\, which works to restore oyster reefs\, recycle shells\, and engage communities in protecting our coastal waters. Oysters naturally filter and clean the ocean while creating critical habitat for marine life. Yet\, ocean acidification threatens their ability to survive and grow. Our work helps rebuild resilient ecosystems and raises awareness about why healthy oceans matter for all of us. The mission of the Massachusetts Oyster Project to restore Massachusetts's oyster and other native shellfish populations is well underway. This work centers around four core pillars: Restoration\, Education\, Shell Recycling and Advocacy. www.massoyster.org\n\n \n\nAbout Our speaker:\n\nLiv Woods joined the Massachusetts Oyster Project as Executive Director in May 2023. Liv brings 20 years of experience across various industries\, including healthcare\, health insurance\, hospital management\, and academic organizations. Additionally\, she has been involved in various consulting engagements with for-profit and non-profit organizations. In her spare time\, Liv likes to run\, cook and spend time with her family.\n\n \n\nPlease arrive between 6-6:20 to allow time for parking and arrival\, and to enjoy snacks and socializing. The lecture and Q&A will be from 6:30-7:30pm.\n\nAccessibility: The lecture location is wheelchair accessible. Please contact Val Perini for accessible parking/information: vperini@thetrustees.org\n\nSpace is limited for this event and pre-registration is required.
X-ALT-DESC;FMTTYPE=text/html:<p>Join us for a lecture and Q&amp\;A\, to learn about the important habitat restoration work of the Massachusetts Oyster Project\, which works to restore oyster reefs\, recycle shells\, and engage communities in protecting our coastal waters. Oysters naturally filter and clean the ocean while creating critical habitat for marine life. Yet\, ocean acidification threatens their ability to survive and grow. Our work helps rebuild resilient ecosystems and raises awareness about why healthy oceans matter for all of us. The mission of the Massachusetts Oyster Project to restore Massachusetts&rsquo\;s oyster and other native shellfish populations is well underway. This work centers around four core pillars: Restoration\, Education\, Shell Recycling and Advocacy.&nbsp\;<a href="http://www.massoyster.org/" style="box-sizing: inherit\; color: rgb(55\, 61\, 57)\; text-decoration-line: none\; transition: 0.3s cubic-bezier(0.25\, 0.46\, 0.45\, 0.94)\; font-size: 16px\; line-height: 26px\; letter-spacing: 0.012em\; border-bottom: 1px solid rgb(86\, 150\, 2)\;">www.massoyster.org</a></p>\n\n<p>&nbsp\;</p>\n\n<p>About Our speaker:</p>\n\n<p>Liv Woods joined the Massachusetts Oyster Project as Executive Director in May 2023. Liv brings 20 years of experience across various industries\, including healthcare\, health insurance\, hospital management\, and academic organizations. Additionally\, she has been involved in various consulting engagements with for-profit and non-profit organizations. In her spare time\, Liv likes to run\, cook and spend time with her family.</p>\n\n<p>&nbsp\;</p>\n\n<p>Please arrive between 6-6:20 to allow time for parking and arrival\, and to enjoy snacks and socializing. The lecture and Q&amp\;A will be from 6:30-7:30pm.</p>\n\n<p>Accessibility: The lecture location is wheelchair accessible. Please contact Val Perini for accessible parking/information:&nbsp\;<a href="mailto:vperini@thetrustees.org" style="box-sizing: inherit\; color: rgb(55\, 61\, 57)\; text-decoration-line: none\; transition: 0.3s cubic-bezier(0.25\, 0.46\, 0.45\, 0.94)\; font-size: 16px\; line-height: 26px\; letter-spacing: 0.012em\; border-bottom: 1px solid rgb(86\, 150\, 2)\;">vperini@thetrustees.org</a></p>\n\n<p>Space is limited for this event and pre-registration is required.</p>\n
LOCATION:Castle Hill on the Crane Estate 290 Argilla Road Ipswich\, MA 01938
UID:e.2981.45097
SEQUENCE:3
DTSTAMP:20260425T024141Z
URL:https://business.capeannchamber.com/events/details/coastal-lecture-oyster-restoration-with-mass-oyster-project-45097
END:VEVENT

END:VCALENDAR
