BEGIN:VCALENDAR
VERSION:2.0
PRODID:-//ChamberMaster//Event Calendar 2.0//EN
METHOD:PUBLISH
X-PUBLISHED-TTL:P3D
REFRESH-INTERVAL:P3D
CALSCALE:GREGORIAN
BEGIN:VEVENT
DTSTART;VALUE=DATE:20210723
DTEND;VALUE=DATE:20210801
TRANSP:TRANSPARENT
X-MICROSOFT-CDO-ALLDAYEVENT:TRUE
SUMMARY:Coastal Celebration Virtual Auction
DESCRIPTION:Join Seaside Sustainability Inc. in their inaugural Coastal Celebration virtual auction\, which will be organized through the digital platform BiddingForGood. Seaside is an environmental non-profit organization dedicated to marine conservation and education in the Cape Ann\, Massachusetts area. They specialize in areas such as legislation\, sales\, education\, and marketing to fulfill their mission of protecting our coastal waters.  \n\nParticipate as a bidder to win some unique and exciting prizes\, donate an item\, or become a sponsor!\n\nContact manleyj@seasidesustainability.org for more details!
X-ALT-DESC;FMTTYPE=text/html:<p style="margin-right:30pt">Join Seaside Sustainability Inc. in their inaugural Coastal Celebration virtual auction\, which will be organized through the digital platform BiddingForGood.&nbsp\;Seaside is an environmental non-profit organization dedicated to marine conservation and education in the Cape Ann\, Massachusetts area. They specialize in areas such as legislation\, sales\, education\, and marketing to fulfill their mission of protecting our coastal waters.&nbsp\;&nbsp\;</p>\n\n<p style="margin-right:30pt">Participate as a bidder to win some unique and exciting prizes\, donate an item\, or become a sponsor!</p>\n\n<div>Contact manleyj@seasidesustainability.org for more details!</div>\n
LOCATION:https://www.biddingforgood.com/ssustainability
UID:e.2981.20993
SEQUENCE:3
DTSTAMP:20260425T032801Z
URL:https://business.capeannchamber.com/events/details/coastal-celebration-virtual-auction-20993
END:VEVENT

END:VCALENDAR
