BEGIN:VCALENDAR
VERSION:2.0
PRODID:-//ChamberMaster//Event Calendar 2.0//EN
METHOD:PUBLISH
X-PUBLISHED-TTL:P3D
REFRESH-INTERVAL:P3D
CALSCALE:GREGORIAN
BEGIN:VEVENT
DTSTART:20250927T140000Z
DTEND:20250927T180000Z
X-MICROSOFT-CDO-ALLDAYEVENT:FALSE
SUMMARY:City of Gloucester Safety Day
DESCRIPTION:Gloucester Police Department along with Massachusetts State Police will host a Safety Day.\n\nFeatured will be a helicopter and rescue swimmer\, a simulated car accident and more.
X-ALT-DESC;FMTTYPE=text/html:Gloucester Police Department along with Massachusetts State Police will host a Safety Day.<br />\nFeatured will be a helicopter and rescue swimmer\, a simulated car accident and more.<br />\n&nbsp\;
LOCATION:Harbor Loop\, Gloucester MA
UID:e.2981.44811
SEQUENCE:3
DTSTAMP:20260422T091614Z
URL:https://business.capeannchamber.com/events/details/city-of-gloucester-safety-day-44811
END:VEVENT

END:VCALENDAR
