BEGIN:VCALENDAR
VERSION:2.0
PRODID:-//ChamberMaster//Event Calendar 2.0//EN
METHOD:PUBLISH
X-PUBLISHED-TTL:P3D
REFRESH-INTERVAL:P3D
CALSCALE:GREGORIAN
BEGIN:VEVENT
DTSTART:20251018T160000Z
DTEND:20251018T190000Z
X-MICROSOFT-CDO-ALLDAYEVENT:FALSE
SUMMARY:City of Gloucester's Halloween Party
DESCRIPTION:The City of Gloucester invites you to attend their Family-Friendly Halloween Party\, open to the public and free for all ages!\n\nThere will be prizes for the Best Costumes: Little Kids\, Big Kids\, & Families!\n\nPopcorn & Snacks also provided- please bring water bottles.\n\nFEATURING: HAY RIDES\, TOUCH A TRUCK\, DJ LEO FRANCIS & A CANDY PARADE!!
X-ALT-DESC;FMTTYPE=text/html:The City of Gloucester invites you to attend their Family-Friendly Halloween Party\, open to the public and free for all ages!<br />\nThere will be prizes for the Best Costumes: Little Kids\, Big Kids\, &amp\; Families!<br />\nPopcorn &amp\; Snacks also provided- please bring water bottles.<br />\nFEATURING: HAY RIDES\, TOUCH A TRUCK\, DJ LEO FRANCIS &amp\; A CANDY PARADE!!
LOCATION:Stage Ft Park
UID:e.2981.44881
SEQUENCE:3
DTSTAMP:20260422T073545Z
URL:https://business.capeannchamber.com/events/details/city-of-gloucester-s-halloween-party-44881
END:VEVENT

END:VCALENDAR
