BEGIN:VCALENDAR
VERSION:2.0
PRODID:-//ChamberMaster//Event Calendar 2.0//EN
METHOD:PUBLISH
X-PUBLISHED-TTL:P3D
REFRESH-INTERVAL:P3D
CALSCALE:GREGORIAN
BEGIN:VEVENT
DTSTART:20211020T220000Z
DTEND:20211020T230000Z
X-MICROSOFT-CDO-ALLDAYEVENT:FALSE
SUMMARY:City of Gloucester Councilor At-Large Candidate Forum
DESCRIPTION:The Greater Cape Ann Chamber of Commerce's Government Affairs Council Presents the Councilor At-Large Candidate Forum on Wednesday\, October 20\, 2021. All seven candidates - Peter Cannavo\, Tony M. Gross\, Jason M. Grow\, Robin J. Hubbard\, Carleton Bruce McKay Jr.\, James W. O'Hara Jr. and Jeffrey T. Worthley - have been invited to attend this forum. \n\n\n\nThis event is free and the public is invited to attend\, registration is required to attend the event. The candidates will each be given the opportunity to answer several questions on a wide range of topics. \n\n\n\nMASKS ARE REQUIRED
X-ALT-DESC;FMTTYPE=text/html:<span style="color: rgb(0\, 0\, 0)\;">The Greater Cape Ann Chamber of Commerce&#39\;s Government Affairs Council Presents the Councilor At-Large Candidate Forum on Wednesday\, October 20\, 2021. All seven candidates - Peter Cannavo\, Tony M. Gross\, Jason M. Grow\, Robin J. Hubbard\, Carleton Bruce McKay Jr.\, James W. O&#39\;Hara Jr. and Jeffrey T. Worthley - have been invited to attend this forum.&nbsp\;<br />\n<br />\nThis event is free and the public is invited to attend\, <strong>registration is required to attend the event</strong>. The candidates will each be given the opportunity to answer several questions on a wide range of topics.&nbsp\;</span><br />\n<br />\n<span style="color: rgb(0\, 0\, 0)\;"><strong>MASKS ARE REQUIRED&nbsp\;</strong></span>
LOCATION:Gloucester High School Auditorium 32 Leslie O Johnson Rd\, Gloucester\, MA 01930
UID:e.2981.21370
SEQUENCE:3
DTSTAMP:20260424T170735Z
URL:https://business.capeannchamber.com/events/details/city-of-gloucester-councilor-at-large-candidate-forum-21370
END:VEVENT

END:VCALENDAR
