BEGIN:VCALENDAR
VERSION:2.0
PRODID:-//ChamberMaster//Event Calendar 2.0//EN
METHOD:PUBLISH
X-PUBLISHED-TTL:P3D
REFRESH-INTERVAL:P3D
CALSCALE:GREGORIAN
BEGIN:VEVENT
DTSTART:20241213T010000Z
DTEND:20241213T030000Z
X-MICROSOFT-CDO-ALLDAYEVENT:FALSE
SUMMARY:Christmas with the Celts
DESCRIPTION:Enjoy high-steppin'\, cheerful holiday classics\, lively ancient Irish carols\, hilarious spontaneous humor\, thrilling Irish dancing and much more from one of Ireland's most popular touring groups. Celebrating 14 years of successful national touring\, come see why the Celts' performance is more than just a concert\, it's a spiritual experience of music and dance uniting communities.
X-ALT-DESC;FMTTYPE=text/html:<span style="font-size:14px"><span style="background-color:rgb(250\, 250\, 250)\; color:rgb(0\, 0\, 0)\; font-family:open sans\,helvetica neue\,helvetica\,arial\,sans-serif">Enjoy high-steppin&#39\;\, cheerful holiday classics\, lively ancient Irish carols\, hilarious spontaneous humor\, thrilling Irish dancing and much more from one of Ireland&#39\;s most popular touring groups. Celebrating 14 years of successful national touring\, come see why the Celts&#39\; performance is more than just a concert\, it&#39\;s a spiritual experience of music and dance uniting communities.</span></span>
LOCATION:37 Main St\, Rockport\, MA 01966
UID:e.2981.33166
SEQUENCE:3
DTSTAMP:20260424T152508Z
URL:https://business.capeannchamber.com/events/details/christmas-with-the-celts-33166
END:VEVENT

END:VCALENDAR
