BEGIN:VCALENDAR
VERSION:2.0
PRODID:-//ChamberMaster//Event Calendar 2.0//EN
METHOD:PUBLISH
X-PUBLISHED-TTL:P3D
REFRESH-INTERVAL:P3D
CALSCALE:GREGORIAN
BEGIN:VEVENT
DTSTART:20231217T220000Z
DTEND:20231218T000000Z
X-MICROSOFT-CDO-ALLDAYEVENT:FALSE
SUMMARY:Christmas with the Back Bay Ringers
DESCRIPTION:Get in the holiday spirit with the Back Bay Ringers! Back Bay Ringers (BBR) is an advanced\, auditioned\, handbell ensemble. Under the direction of Griff Gall\, BBR has quickly developed a reputation for excellence.
X-ALT-DESC;FMTTYPE=text/html:Get in the holiday spirit with the Back Bay Ringers! Back Bay Ringers (BBR) is an advanced\, auditioned\, handbell ensemble. Under the direction of Griff Gall\, BBR has quickly developed a reputation for excellence.
LOCATION:Shalin Liu Performance Center 37 Main Street Rockport\, MA 01966
UID:e.2981.27054
SEQUENCE:3
DTSTAMP:20260421T214959Z
URL:https://business.capeannchamber.com/events/details/christmas-with-the-back-bay-ringers-12-17-2023-27054
END:VEVENT

END:VCALENDAR
