BEGIN:VCALENDAR
VERSION:2.0
PRODID:-//ChamberMaster//Event Calendar 2.0//EN
METHOD:PUBLISH
X-PUBLISHED-TTL:P3D
REFRESH-INTERVAL:P3D
CALSCALE:GREGORIAN
BEGIN:VEVENT
DTSTART:20231202T180000Z
DTEND:20231202T213000Z
X-MICROSOFT-CDO-ALLDAYEVENT:FALSE
SUMMARY:Christmas in Rockport - Santa's Arrival & Tree Lighting
DESCRIPTION:Celebrate Christmas in the quaint community of Rockport!  Rockport does Christmas the way it was done back in the day....\n\nHoliday fun and celebrations start the weekend after Thanksgiving with Shop Rockport Weekend\, and continues right on through to New Year's Eve\, where you can celebrate Rockport New Year's Eve\, in the town where First Night events started!\n\nBelow are the events and dates:\n\nDecember 2: Santa's Arrival by Boat (1 PM)\, Photos with Santa\, Tree Lighting Ceremony (4 PM)\n\nDecember 8: Holiday Shopping Night (4-8 PM) and After-Party @The Fish Shack!\n\nDecember 9: Strolling Musicians Quintessential Brass and Carolers Solstice Singers3 pm)\n\nDecember 17: North Shore Men's Christian Choir\, Annual Christmas Live Nativity Pageant (5 PM)\n\nDecember 23 - 24: Last Minute Stocking Stuffer Weekend\n\nDecember 31: Rockport New Year's Eve (6pm - Midnight)
X-ALT-DESC;FMTTYPE=text/html:<p><span style="font-size:16px\;">Celebrate Christmas in the quaint community of Rockport!&nbsp\; Rockport does Christmas the way it was done back in the day....</span></p>\n\n<p><span style="font-size:16px\;">Holiday fun and celebrations start the weekend after Thanksgiving with Shop Rockport Weekend\, and continues right on through to New Year&#39\;s Eve\, where you can celebrate Rockport New Year&#39\;s Eve\, in the town where First Night events started!</span></p>\n\n<p><span style="font-size:16px\;"><strong>Below are the events and dates:</strong><br />\n<span style="color: rgb(34\, 34\, 34)\; line-height: 115%\; font-family: Arial\, ">December<span class="apple-converted-space">&nbsp\;2</span>:<span class="apple-converted-space">&nbsp\;</span>Santa&rsquo\;s<span class="apple-converted-space">&nbsp\;</span>Arrival<span class="apple-converted-space">&nbsp\;</span>by<span class="apple-converted-space">&nbsp\;</span>Boat<span class="apple-converted-space">&nbsp\;</span>(1<span class="apple-converted-space">&nbsp\;</span>PM)\,<span class="apple-converted-space">&nbsp\;Photos with Santa\,&nbsp\;</span>Tree<span class="apple-converted-space">&nbsp\;</span>Lighting<span class="apple-converted-space">&nbsp\;</span>Ceremony<span class="apple-converted-space">&nbsp\;</span>(4 PM)<br />\nDecember<span class="apple-converted-space">&nbsp\;8</span>:<span class="apple-converted-space">&nbsp\;Holiday Shopping Night</span></span><span class="apple-converted-space" style="color: rgb(34\, 34\, 34)\; font-family: Arial\, ">&nbsp\;</span><span style="color: rgb(34\, 34\, 34)\; font-family: Arial\, ">(4</span><span style="color: rgb(34\, 34\, 34)\; font-family: Arial\, ">-8</span><span style="color: rgb(34\, 34\, 34)\; font-family: Arial\, ">&nbsp\;PM</span><span style="color: rgb(34\, 34\, 34)\; font-family: Arial\, ">) and After-Party @The Fish Shack!<br />\nDecember 9: Strolling Musicians&nbsp\;</span></span><span style="color: rgb(34\, 34\, 34)\; font-size: 16px\;">Quintessential Brass</span><span style="font-size:16px\;"><span style="color: rgb(34\, 34\, 34)\; font-family: Arial\, ">&nbsp\;and Carolers Solstice&nbsp\;Singers</span><span style="color:#FFFFFF\;"><span style="line-height: 115%\;"><span class="apple-converted-space">3 pm)</span></span></span></span><br />\n<span style="font-size:16px\;">December 17: North Shore Men&#39\;s Christian Choir\, Annual Christmas Live Nativity Pageant (5 PM)<br />\nDecember 23 - 24: Last Minute Stocking Stuffer Weekend<br />\nDecember 31: Rockport New Year&rsquo\;s Eve (6pm - Midnight)</span><br />\n&nbsp\;</p>\n
LOCATION:T-Wharf & Dock Square Rockport\, MA
UID:e.2981.24730
SEQUENCE:3
DTSTAMP:20260421T214949Z
URL:https://business.capeannchamber.com/events/details/christmas-in-rockport-santa-s-arrival-tree-lighting-24730
END:VEVENT

END:VCALENDAR
