BEGIN:VCALENDAR
VERSION:2.0
PRODID:-//ChamberMaster//Event Calendar 2.0//EN
METHOD:PUBLISH
X-PUBLISHED-TTL:P3D
REFRESH-INTERVAL:P3D
CALSCALE:GREGORIAN
BEGIN:VEVENT
DTSTART:20231210T193000Z
DTEND:20231210T210000Z
X-MICROSOFT-CDO-ALLDAYEVENT:FALSE
SUMMARY:Christmas Caroling Around Rockport
DESCRIPTION:Bring in some Christmas cheer by caroling around Rockport! Sing all the holiday classics and get in the spirit for this Christmas season!
X-ALT-DESC;FMTTYPE=text/html:Bring in some Christmas cheer by caroling around Rockport! Sing all the holiday classics and get in the spirit for this Christmas season!&nbsp\;
LOCATION:First Baptist Church of Rockport 4 High Street Rockport\, MA 01966
UID:e.2981.26654
SEQUENCE:3
DTSTAMP:20260421T232507Z
URL:https://business.capeannchamber.com/events/details/christmas-caroling-around-rockport-26654
END:VEVENT

END:VCALENDAR
