BEGIN:VCALENDAR
VERSION:2.0
PRODID:-//ChamberMaster//Event Calendar 2.0//EN
METHOD:PUBLISH
X-PUBLISHED-TTL:P3D
REFRESH-INTERVAL:P3D
CALSCALE:GREGORIAN
BEGIN:VEVENT
DTSTART;VALUE=DATE:20201127
DTEND;VALUE=DATE:20210103
TRANSP:TRANSPARENT
X-MICROSOFT-CDO-ALLDAYEVENT:TRUE
SUMMARY:Christmas by the Sea
DESCRIPTION:This year's Christmas by the Sea festivities has been extended all season long! We hope you and your families safely join us downtown to enjoy the spirit of the holidays this year. Please see our holiday poster to see our activities!
X-ALT-DESC;FMTTYPE=text/html:<span style="color: rgb(5\, 5\, 5)\; font-family: &quot\;Segoe UI Historic&quot\;\, &quot\;Segoe UI&quot\;\, Helvetica\, Arial\, sans-serif\; font-size: 15px\;">This year&#39\;s Christmas by the Sea festivities has been extended all season long! We hope you and your families safely join us downtown to enjoy the spirit of the holidays this year. Please see our holiday poster to see our activities!&nbsp\;</span>
LOCATION:Downtown Manchester by the Sea
UID:e.2981.20411
SEQUENCE:3
DTSTAMP:20260423T094350Z
URL:https://business.capeannchamber.com/events/details/christmas-by-the-sea-20411
END:VEVENT

END:VCALENDAR
