BEGIN:VCALENDAR
VERSION:2.0
PRODID:-//ChamberMaster//Event Calendar 2.0//EN
METHOD:PUBLISH
X-PUBLISHED-TTL:P3D
REFRESH-INTERVAL:P3D
CALSCALE:GREGORIAN
BEGIN:VEVENT
DTSTART:20251214T000000Z
DTEND:20251214T020000Z
X-MICROSOFT-CDO-ALLDAYEVENT:FALSE
SUMMARY:Chorus North Shore Presents - Mozart's Requiem
DESCRIPTION:Orchestra\, Chorus\, Concert\n\nDecember 13\, 7:00 p.m.\n\nDecember 14 2:00 p.m.\n\n\n\nOur Lady of Hope Ipswich
X-ALT-DESC;FMTTYPE=text/html:Orchestra\, Chorus\, Concert<br />\nDecember 13\, 7:00 p.m.<br />\nDecember 14 2:00 p.m.<br />\n<br />\nOur Lady of Hope Ipswich
LOCATION:Our Lady of Hope Ipswich
UID:e.2981.45317
SEQUENCE:3
DTSTAMP:20260422T060405Z
URL:https://business.capeannchamber.com/events/details/chorus-north-shore-presents-mozart-s-requiem-45317
END:VEVENT

END:VCALENDAR
