BEGIN:VCALENDAR
VERSION:2.0
PRODID:-//ChamberMaster//Event Calendar 2.0//EN
METHOD:PUBLISH
X-PUBLISHED-TTL:P3D
REFRESH-INTERVAL:P3D
CALSCALE:GREGORIAN
BEGIN:VEVENT
DTSTART:20221002T140000Z
DTEND:20221002T190000Z
X-MICROSOFT-CDO-ALLDAYEVENT:FALSE
SUMMARY:Choate Island Days
DESCRIPTION:Spend a day with us in celebration of Choate Island   the crown jewel of the Crane Wildlife Refuge. Here deer and foxes roam through fields that once housed herds of sheep\, and osprey fly over breathtaking views of Essex Bay. The island was first home to indigenous farmers and fishers\, then to generations of the Choate family\, and was later a retreat for Cornelius and Min  Crane\, who loved the place so much they decided to be buried at the summit. Your day may take you on any adventure you choose\, including hiking through miles of walking trails\, observing wild landscapes with a fall treat in hand\, hearing first-hand accounts of island life and history\, and taking self-guided explorations of the historical Proctor Barn and Choate House. \n\nPark at Crane Beach (at the end of Argilla Road)   parking will be free for this event\, and board our shuttle bus to take you straight down to the boat dock (less than 5 minute drive). There you can check in (if you purchased tickets online) or buy tickets at the boat dock (if available) before boarding the ferry to the island\, which is less than 10 minute boat trip one way. The shuttles will run continuously between 10AM and 3PM. The last boat to the Island departs at 1pm\, and the last boat returns from the island at 3PM.
X-ALT-DESC;FMTTYPE=text/html:<p>Spend a day with us in celebration of Choate Island &ndash\; the crown jewel of the Crane Wildlife Refuge. Here deer and foxes roam through fields that once housed herds of sheep\, and osprey fly over breathtaking views of Essex Bay. The island was first home to indigenous farmers and fishers\, then to generations of the Choate family\, and was later a retreat for Cornelius and Min&eacute\; Crane\, who loved the place so much they decided to be buried at the summit. Your day may take you on any adventure you choose\, including hiking through miles of walking trails\, observing wild landscapes with a fall treat in hand\, hearing first-hand accounts of island life and history\, and taking self-guided explorations of the historical Proctor Barn and Choate House.&nbsp\;</p>\n\n<p>Park at Crane Beach (at the end of Argilla Road) &ndash\; parking will be free for this event\, and board our shuttle bus to take you straight down to the boat dock (less than 5 minute drive). There you can check in (if you purchased tickets online) or buy tickets at the boat dock (if available) before boarding the ferry to the island\, which is less than 10 minute boat trip one way. The shuttles will run continuously between 10AM and 3PM. The last boat to the Island departs at 1pm\, and the last boat returns from the island at 3PM.</p>\n
LOCATION:Choate Island\, Crane Wildlife Refuge Parking at Crane Beach\, 310 Argilla Road\, Ipswich\, MA 01938
UID:e.2981.23138
SEQUENCE:3
DTSTAMP:20260424T140804Z
URL:https://business.capeannchamber.com/events/details/choate-island-days-10-02-2022-23138
END:VEVENT

END:VCALENDAR
