BEGIN:VCALENDAR
VERSION:2.0
PRODID:-//ChamberMaster//Event Calendar 2.0//EN
METHOD:PUBLISH
X-PUBLISHED-TTL:P3D
REFRESH-INTERVAL:P3D
CALSCALE:GREGORIAN
BEGIN:VEVENT
DTSTART:20250823T150000Z
DTEND:20250823T170000Z
X-MICROSOFT-CDO-ALLDAYEVENT:FALSE
SUMMARY:Children's Art & History Workshops
DESCRIPTION:Children's Art & History Workshops\n\nThe Sea Serpent Returns\n\nAugust 23\, September 20\, October 18\n\nWorkshops are geared toward ages 5-12\n\nMade possible by the Hooper Fund
X-ALT-DESC;FMTTYPE=text/html:Children&#39\;s Art &amp\; History Workshops<br />\nThe Sea Serpent Returns<br />\nAugust 23\, September 20\, October 18<br />\nWorkshops are geared toward ages 5-12<br />\nMade possible by the Hooper Fund
LOCATION:
UID:e.2981.43009
SEQUENCE:3
DTSTAMP:20260425T011228Z
URL:https://business.capeannchamber.com/events/details/children-s-art-history-workshops-43009
END:VEVENT

END:VCALENDAR
