BEGIN:VCALENDAR
VERSION:2.0
PRODID:-//ChamberMaster//Event Calendar 2.0//EN
METHOD:PUBLISH
X-PUBLISHED-TTL:P3D
REFRESH-INTERVAL:P3D
CALSCALE:GREGORIAN
BEGIN:VEVENT
DTSTART:20201221T000000Z
DTEND:20201221T045500Z
X-MICROSOFT-CDO-ALLDAYEVENT:FALSE
SUMMARY:Chelsea Berry At Hammond Castle Museum: A Holiday Special (Virtual Program)
DESCRIPTION:Chelsea Berry At Hammond Castle Museum: A Holiday Special\n\n7:00 pm EST on Sunday\, December 20th.\n\nTicket holders will have access to the show through January 1st. \n\nJoin us for a very special live recording of Chelsea Berry at the Hammond Castle Museum! In this virtual performance\, Berry's powerful vocals fill the Great Hall as she performs holiday classics and winter favorites. Let her soulful renditions transport you to a Christmas wonderland\, right from the comfort of your own home! This show will broadcast through a private group on the Museum's Facebook page. \n\n7:00 pm EST on Sunday\, December 20th. Ticket holders will have access to the show through January 1st. \n\nhttps://www.hammondcastle.org/event/chelsea-berry-a-holiday-special/
X-ALT-DESC;FMTTYPE=text/html:<h2 style="font-style:italic"><em><strong>Chelsea Berry At Hammond Castle Museum: A Holiday Special</strong></em></h2>\n\n<p>7:00 pm EST on Sunday\, December 20th.<br />\nTicket holders will have access to the show through January 1st.&nbsp\;</p>\n\n<p>Join us for a very special live recording of Chelsea Berry at the Hammond Castle Museum! In this virtual performance\, Berry&rsquo\;s powerful vocals fill the Great Hall as she performs holiday classics and winter favorites. Let her soulful renditions transport you to a Christmas wonderland\, right from the comfort of your own home! This show will broadcast through a private group on the Museum&#39\;s Facebook page.&nbsp\;</p>\n\n<p>7:00 pm EST on Sunday\, December 20th. Ticket holders will have access to the show through January 1st.&nbsp\;</p>\n\n<p><a href="https://www.hammondcastle.org/event/chelsea-berry-a-holiday-special/" style="color: rgb(17\, 85\, 204)\;" target="_blank">https://www.hammondcastle.org/event/chelsea-berry-a-holiday-special/</a></p>\n\n<p>&nbsp\;</p>\n
LOCATION:This show will broadcast through a private group on the Museum's Facebook page. Ticket holders will receive an email with a link to join the private group.
UID:e.2981.20647
SEQUENCE:3
DTSTAMP:20260425T201929Z
URL:https://business.capeannchamber.com/events/details/chelsea-berry-at-hammond-castle-museum-a-holiday-special-virtual-program-20647
END:VEVENT

END:VCALENDAR
