BEGIN:VCALENDAR
VERSION:2.0
PRODID:-//ChamberMaster//Event Calendar 2.0//EN
METHOD:PUBLISH
X-PUBLISHED-TTL:P3D
REFRESH-INTERVAL:P3D
CALSCALE:GREGORIAN
BEGIN:VEVENT
DTSTART:20260502T140000Z
DTEND:20260502T160000Z
X-MICROSOFT-CDO-ALLDAYEVENT:FALSE
SUMMARY:Chase the Butterfly Family 5K and Kids Fun Run
DESCRIPTION:Run for a Reason: Your Support Makes the Difference\n\nRun for a reason. The Y is dedicated to ensuring everyone has access to our programming and services\, from life-saving swim safety to youth development and childcare. Your registration supports this essential mission\, ensuring we can continue to help those in our community who need the Y most.\n\nThis year\, your impact goes even further. We are proud to collaborate with the CureCMT4J Foundation for the Chase the Butterfly 5K. CureCMT4J is an Ipswich-based nonprofit dedicated to finding a cure for an extremely rare\, deadly neurological disease similar to ALS.\n\nGet your running shoes ready! Join us at New England Biolabs to run or walk in support of our community and local heroes like Talia Duff. It's more than a race it's a chance to strengthen our community bonds and fund a life-saving mission. We can't wait to see you at the starting line!
X-ALT-DESC;FMTTYPE=text/html:<h3 style="text-align:center"><span style="font-family:verdana\,geneva\,sans-serif"><span style="color:rgb(41\, 105\, 176)">Run for a Reason: Your Support Makes the Difference</span></span></h3>\n\n<p style="text-align:center"><span style="font-family:verdana\,geneva\,sans-serif\; font-size:16px"><em><strong><span style="color:rgb(41\, 105\, 176)">Run for a reason.</span></strong></em><em>&nbsp\;The Y is dedicated to ensuring everyone has access to our programming and services\, from life-saving swim safety to youth development and childcare. Your registration supports this essential mission\, ensuring we can continue to help those in our community who need the Y most.</em></span></p>\n\n<p style="text-align:center"><span style="font-family:verdana\,geneva\,sans-serif\; font-size:16px"><strong><span style="color:rgb(41\, 105\, 176)">This year\, your impact goes even further.</span></strong>&nbsp\;We are proud to collaborate with the&nbsp\;<a href="https://www.curecmt4j.org/" rel="noreferrer noopener" style="box-sizing: border-box\; background-color: transparent\; color: rgb(0\, 67\, 191)\; overflow-wrap: break-word\; word-break: break-word\;" target="_blank">CureCMT4J</a>&nbsp\;Foundation for the Chase the Butterfly 5K. CureCMT4J is an Ipswich-based nonprofit dedicated to finding a cure for an extremely rare\, deadly neurological disease similar to ALS.</span></p>\n\n<p style="text-align:center"><span style="font-family:verdana\,geneva\,sans-serif\; font-size:16px">Get your running shoes ready! Join us at&nbsp\;<a href="https://www.neb.com/en-us/" rel="noreferrer noopener" style="box-sizing: border-box\; background-color: transparent\; color: rgb(0\, 67\, 191)\; overflow-wrap: break-word\; word-break: break-word\;" target="_blank">New England Biolabs</a>&nbsp\;to run or walk in support of our community and local heroes like Talia Duff. It&rsquo\;s more than a race&mdash\;it&rsquo\;s a chance to strengthen our community bonds and fund a life-saving mission.&nbsp\;<span style="color:rgb(41\, 105\, 176)"><strong>We can&rsquo\;t wait to see you at the starting line!</strong></span></span></p>\n
LOCATION:New England Biolabs\, Inc.\, County Road\, Ipswich\, MA
UID:e.2981.46393
SEQUENCE:3
DTSTAMP:20260421T151639Z
URL:https://business.capeannchamber.com/events/details/chase-the-butterfly-family-5k-and-kids-fun-run-46393
END:VEVENT

END:VCALENDAR
