BEGIN:VCALENDAR
VERSION:2.0
PRODID:-//ChamberMaster//Event Calendar 2.0//EN
METHOD:PUBLISH
X-PUBLISHED-TTL:P3D
REFRESH-INTERVAL:P3D
CALSCALE:GREGORIAN
BEGIN:VEVENT
DTSTART:20221220T223000Z
DTEND:20221221T000000Z
X-MICROSOFT-CDO-ALLDAYEVENT:FALSE
SUMMARY:Chanukah Celebration - Ipswich Public Menorah Lighting
DESCRIPTION:Ipswich Public Menorah Lighting\n\n  Children's Activities\n\n  Latkes\n\n  Donuts\n\n  More\n\nMenorah Lighting will be followed by Chanukah Celebration at 6:00 PM at Gathr
X-ALT-DESC;FMTTYPE=text/html:Ipswich Public Menorah Lighting<br />\n&bull\; Children&#39\;s Activities<br />\n&bull\; Latkes<br />\n&bull\; Donuts<br />\n&bull\; More<br />\nMenorah Lighting will be followed by Chanukah Celebration at 6:00 PM at Gathr<br />\n&nbsp\;
LOCATION:Menorah Lighting will be at the bottom of Town Hill Chanukah Celebration will follow at Gathr - 42 Market Street\, Ipswich\, MA 01938
UID:e.2981.24560
SEQUENCE:3
DTSTAMP:20260424T090216Z
URL:https://business.capeannchamber.com/events/details/chanukah-celebration-ipswich-public-menorah-lighting-24560
END:VEVENT

END:VCALENDAR
