BEGIN:VCALENDAR
VERSION:2.0
PRODID:-//ChamberMaster//Event Calendar 2.0//EN
METHOD:PUBLISH
X-PUBLISHED-TTL:P3D
REFRESH-INTERVAL:P3D
CALSCALE:GREGORIAN
BEGIN:VEVENT
DTSTART:20140712T000000Z
DTEND:20140712T000000Z
X-MICROSOFT-CDO-ALLDAYEVENT:FALSE
SUMMARY:Chanticleer
DESCRIPTION:Called ''the world's reigning male chorus'' by The New Yorker magazine and Ensemble of the Year by Musical America\, the GRAMMY® award-winning ensemble Chanticleer is known around the world as ''an orchestra of voices'' for the seamless blend of its twelve male voices ranging from countertenor to bass.  The program includes works by Palestrina\, Hildegard von Bingen\, Fanny and Felix Mendelssohn\, Brahms\, Ravel and more.  Tickets: $68/$58/$49
X-ALT-DESC;FMTTYPE=text/html:Called ''the world's reigning male chorus'' by The New Yorker magazine and Ensemble of the Year by Musical America\, the GRAMMY® award-winning ensemble Chanticleer is known around the world as ''an orchestra of voices'' for the seamless blend of its twelve male voices ranging from countertenor to bass.  The program includes works by Palestrina\, Hildegard von Bingen\, Fanny and Felix Mendelssohn\, Brahms\, Ravel and more.  Tickets: $68/$58/$49
LOCATION:Shalin Liu Performance Center\, Rockport\, Ma 01966
UID:e.2981.1238
SEQUENCE:3
DTSTAMP:20260419T154506Z
URL:https://business.capeannchamber.com/events/details/chanticleer-07-11-2014-1238
END:VEVENT

END:VCALENDAR
