BEGIN:VCALENDAR
VERSION:2.0
PRODID:-//ChamberMaster//Event Calendar 2.0//EN
METHOD:PUBLISH
X-PUBLISHED-TTL:P3D
REFRESH-INTERVAL:P3D
CALSCALE:GREGORIAN
BEGIN:VEVENT
DTSTART:20250814T123000Z
DTEND:20250814T133000Z
X-MICROSOFT-CDO-ALLDAYEVENT:FALSE
SUMMARY:Chamber Seminar Series - Speak and Connect: Elevate Your Voice and Your Network
DESCRIPTION:Introducing the Chamber's new Small Business Seminar Series a fresh opportunity to learn\, connect\, and grow! Each session will feature expert insights from fellow Chamber members\, offering valuable tools\, tips\, and resources on a wide range of topics to help your business thrive. Whether you're just starting out or looking to level up\, these engaging\, information-packed seminars are designed with your success in mind.\n\n\n\nJoin us for an empowering\, interactive workshop designed to help professionals elevate their confidence in public speaking and networking. Led by Wendy Silver\, a seasoned real estate professional and former attorney\, this session provides practical tools to overcome fear and awkwardness\, develop authentic connections\, and communicate your value with clarity and ease.\n\nParticipants will explore the foundations of effective networking\, practice crafting personalized pitches\, and receive real-time feedback in a supportive setting. Whether you're new to networking or looking to refine your voice\, Speak & Connect offers a refreshing\, people-first approach to building relationships and making meaningful professional impressions on your own terms.\n\n\n\nWendy Silver is a residential estate agent with Keller Williams Realty Evolution and the DalBon & Co. team. While she serves clients across Massachusetts\, her primary focus is on the North Shore/Cape Ann and Metro West regions. As a former attorney\, Wendy is known for being a trusted advisor\, skilled negotiator\, and collaborative communicator. She brings a unique blend of professionalism\, resourcefulness\, and humor to simplify the home buying and selling process.\n\n \n\nWendy is a member of the North Shore Realtors Association and is certified in luxury real estate sales and consultations.
X-ALT-DESC;FMTTYPE=text/html:<span style="font-size:16px\;"><span style="font-family:comic sans ms\;">Introducing the Chamber&rsquo\;s new <strong data-end="63" data-start="30">Small Business Seminar Series</strong>&mdash\;a fresh opportunity to learn\, connect\, and grow! Each session will feature expert insights from fellow Chamber members\, offering valuable tools\, tips\, and resources on a wide range of topics to help your business thrive. Whether you&#39\;re just starting out or looking to level up\, these engaging\, information-packed seminars are designed with your success in mind.</span></span><br />\n<br />\n<span style="font-size:16px\;">Join us for an empowering\, interactive workshop designed to help professionals elevate their confidence in public speaking and networking. Led by Wendy Silver\, a seasoned real estate professional and former attorney\, this session provides practical tools to overcome fear and awkwardness\, develop authentic connections\, and communicate your value with clarity and ease.<br />\nParticipants will explore the foundations of effective networking\, practice crafting personalized pitches\, and receive real-time feedback in a supportive setting. Whether you&#39\;re new to networking or looking to refine your voice\, <em><span style="font-family:aptos\,sans-serif\;">Speak &amp\; Connect</span></em> offers a refreshing\, people-first approach to building relationships and making meaningful professional impressions&mdash\;on your own terms.</span><br />\n<br />\n<em><span style="color:black\;"><span style="font-family:google sans text\,serif\;"><span style="font-size:11.0pt\;">Wendy Silver is a residential estate agent with Keller Williams Realty Evolution and the DalBon &amp\; Co. team. While she serves clients across Massachusetts\, her primary focus is on the North Shore/Cape Ann and Metro West regions. As a former attorney\, Wendy is known for being a trusted advisor\, skilled negotiator\, and collaborative communicator. She brings a unique blend of professionalism\, resourcefulness\, and humor to simplify the home buying and selling process.</span></span></span></em><br />\n&nbsp\;<br />\n<span style="font-variant-numeric:normal\;font-variant-east-asian:normal\;font-variant-alternates:normal\;"><em><span style="color:black\;"><span style="font-family:google sans text\,serif\;"><span style="font-size:11.0pt\;">Wendy is a member of the North Shore Realtors Association and is certified in luxury real estate sales and consultations.</span></span></span></em></span><br />\n&nbsp\;
LOCATION:Greater Cape Ann Chamber of Commerce Conference Room or via Zoom Zoom link will be provided upon registration
UID:e.2981.37427
SEQUENCE:3
DTSTAMP:20260424T235841Z
URL:https://business.capeannchamber.com/events/details/chamber-seminar-series-speak-and-connect-elevate-your-voice-and-your-network-37427
END:VEVENT

END:VCALENDAR
