BEGIN:VCALENDAR
VERSION:2.0
PRODID:-//ChamberMaster//Event Calendar 2.0//EN
METHOD:PUBLISH
X-PUBLISHED-TTL:P3D
REFRESH-INTERVAL:P3D
CALSCALE:GREGORIAN
BEGIN:VEVENT
DTSTART:20260226T223000Z
DTEND:20260227T000000Z
X-MICROSOFT-CDO-ALLDAYEVENT:FALSE
SUMMARY:Chamber Seminar Series - Marketing 101: How To Get Results on any Budget
DESCRIPTION:Back by popular demand! Join us for Marketing 101: How To Get Results On Any Budget\n\n\n\nThis beginner-friendly seminar breaks down the essentials of marketing so small business owners can finally understand where to start and what actually works. You'll learn how to build a strong brand foundation\, show up online with confidence\, and use simple strategies to attract and earn the trust of your ideal customers- all without needing a big budget.  \n\n\n\nPresented by Joana Garcia:\n\nJoana Garcia is a Brazilian immigrant and the co-founder of Sassy Square\, a boutique marketing agency that's quickly earned recognition across the North Shore's business community. With over 15 years of experience in the field\, she's helped dozens of local businesses boost their visibility and customer base using the same creative\, results-driven strategies that built her own success. Known for her energetic and practical approach\, Joana helps business owners cut through the overwhelm and focus on what truly works- because she knows firsthand what it's like to start small\, feel lost\, and build success step by step.\n\n\n\nThe Chamber's Small Business Seminar Series \n\nA fresh opportunity to learn\, connect\, and grow! Each session will feature expert insights from fellow Chamber members\, offering valuable tools\, tips\, and resources on a wide range of topics to help your business thrive. Whether you're just starting out or looking to level up\, these engaging\, information-packed seminars are designed with your success in mind.
X-ALT-DESC;FMTTYPE=text/html:<span style="font-size:16px\;"><span style="font-family:comic sans ms\;"><strong><span style="font-size:20px\;"><span style="font-family:arial\;">Back by popular demand! Join us for Marketing 101: How To Get Results On Any Budget</span></span></strong></span></span><br />\n<br />\n<span style="font-size:18px\;"><span style="font-family:aptos\,sans-serif\;">This beginner-friendly seminar breaks down the essentials of marketing so small business owners can finally understand where to start and what actually works. You&rsquo\;ll learn how to build a strong brand foundation\, show up online with confidence\, and use simple strategies to attract and earn the trust of your ideal customers- all without needing a big budget.&nbsp\;&nbsp\;</span></span><br />\n<br />\nPresented by Joana Garcia:<br />\n<em><span style="font-size:14px\;"><span style="font-family:aptos\,sans-serif\;">Joana Garcia is a Brazilian immigrant and the co-founder of Sassy Square\, a boutique marketing agency that&rsquo\;s quickly earned recognition across the North Shore&rsquo\;s business community. With over 15 years of experience in the field\, she&rsquo\;s helped dozens of local businesses boost their visibility and customer base using the same creative\, results-driven strategies that built her own success. Known for her energetic and practical approach\, Joana helps business owners cut through the overwhelm and focus on what truly works- because she knows firsthand what it&rsquo\;s like to start small\, feel lost\, and build success step by step.</span></span></em><br />\n<br />\n<span style="font-family: &quot\;comic sans ms&quot\;\; font-size: 16px\;">The Chamber&rsquo\;s </span><strong data-end="63" data-start="30" style="font-family: &quot\;comic sans ms&quot\;\; font-size: 16px\;">Small Business Seminar Series </strong><br />\n<span style="font-family: &quot\;comic sans ms&quot\;\; font-size: 16px\;">A fresh opportunity to learn\, connect\, and grow! Each session will feature expert insights from fellow Chamber members\, offering valuable tools\, tips\, and resources on a wide range of topics to help your business thrive. Whether you&#39\;re just starting out or looking to level up\, these engaging\, information-packed seminars are designed with your success in mind.</span><br />\n&nbsp\;
LOCATION:Greater Cape Ann Chamber of Commerce Conference Room or via Zoom Zoom link will be provided upon registration
UID:e.2981.46149
SEQUENCE:3
DTSTAMP:20260425T135356Z
URL:https://business.capeannchamber.com/events/details/chamber-seminar-series-marketing-101-how-to-get-results-on-any-budget-46149
END:VEVENT

END:VCALENDAR
