BEGIN:VCALENDAR
VERSION:2.0
PRODID:-//ChamberMaster//Event Calendar 2.0//EN
METHOD:PUBLISH
X-PUBLISHED-TTL:P3D
REFRESH-INTERVAL:P3D
CALSCALE:GREGORIAN
BEGIN:VEVENT
DTSTART:20250911T123000Z
DTEND:20250911T133000Z
X-MICROSOFT-CDO-ALLDAYEVENT:FALSE
SUMMARY:Chamber Seminar Series - Bookkeeping and Taxes Made Simple
DESCRIPTION:Introducing the Chamber's new Small Business Seminar Series a fresh opportunity to learn\, connect\, and grow! Each session will feature expert insights from fellow Chamber members\, offering valuable tools\, tips\, and resources on a wide range of topics to help your business thrive. Whether you're just starting out or looking to level up\, these engaging\, information-packed seminars are designed with your success in mind.\n\n\n\nUnderstanding the basics of bookkeeping and taxes is key to running a successful business. In this interactive 30-minute session\, we'll break down core financial concepts every small business owner should know\, from organizing your books to preparing for tax season. You'll gain a clear overview of how these pieces fit together\, along with a couple of practical tips you can apply right away to simplify your financial management.\n\n\n\nMarc Lacroix\, MBA\, brings more than 20 years of experience helping individuals and small businesses navigate the complexities of bookkeeping and taxes. In 2023\, he founded Lacroix and Associates in Ipswich\, MA\, where he provides tax preparation\, advisory\, and bookkeeping services. Marc is a federally licensed Enrolled Agent\, authorized to represent clients before both the IRS and Massachusetts Department of Revenue. His practical\, client-focused approach helps business owners stay organized\, compliant\, and financially confident.
X-ALT-DESC;FMTTYPE=text/html:<span style="font-size:16px\;"><span style="font-family:comic sans ms\;">Introducing the Chamber&rsquo\;s new <strong data-end="63" data-start="30">Small Business Seminar Series</strong>&mdash\;a fresh opportunity to learn\, connect\, and grow! Each session will feature expert insights from fellow Chamber members\, offering valuable tools\, tips\, and resources on a wide range of topics to help your business thrive. Whether you&#39\;re just starting out or looking to level up\, these engaging\, information-packed seminars are designed with your success in mind.</span></span><br />\n<br />\n<span style="font-family:aptos\,sans-serif\;"><span style="font-size:12.0pt\;">Understanding the basics of bookkeeping and taxes is key to running a successful business. In this interactive 30-minute session\, we&rsquo\;ll break down core financial concepts every small business owner should know\, from organizing your books to preparing for tax season. You&rsquo\;ll gain a clear overview of how these pieces fit together\, along with a couple of practical tips you can apply right away to simplify your financial management.</span></span><br />\n<br />\n<em>Marc Lacroix\, MBA\, brings more than 20 years of experience helping individuals and small businesses navigate the complexities of bookkeeping and taxes. In 2023\, he founded Lacroix and Associates in Ipswich\, MA\, where he provides tax preparation\, advisory\, and bookkeeping services. Marc is a federally licensed Enrolled Agent\, authorized to represent clients before both the IRS and Massachusetts Department of Revenue. His practical\, client-focused approach helps business owners stay organized\, compliant\, and financially confident.</em><br />\n<br />\n&nbsp\;
LOCATION:Greater Cape Ann Chamber of Commerce Conference Room or via Zoom Zoom link will be provided upon registration
UID:e.2981.43004
SEQUENCE:3
DTSTAMP:20260425T011545Z
URL:https://business.capeannchamber.com/events/details/chamber-seminar-series-bookkeeping-and-taxes-made-simple-43004
END:VEVENT

END:VCALENDAR
