BEGIN:VCALENDAR
VERSION:2.0
PRODID:-//ChamberMaster//Event Calendar 2.0//EN
METHOD:PUBLISH
X-PUBLISHED-TTL:P3D
REFRESH-INTERVAL:P3D
CALSCALE:GREGORIAN
BEGIN:VEVENT
DTSTART:20221207T220000Z
DTEND:20221208T000000Z
X-MICROSOFT-CDO-ALLDAYEVENT:FALSE
SUMMARY:Chamber Essex Division Holiday Party
DESCRIPTION:Come celebrate the Holidays with the Chamber staff and Members from our Essex Division!\n\nWe invite you to enjoy light appetizers and a cash bar at the wonderful Ripple on the Water Restaurant- Winner of the Peoples Choice Award at this year's ClamFest.
X-ALT-DESC;FMTTYPE=text/html:<p style="font-family: Roboto\, sans-serif\;">Come celebrate the Holidays with the Chamber staff and Members from our Essex Division!</p>\n\n<p style="font-family: Roboto\, sans-serif\;">We invite you to enjoy light appetizers and a cash bar at the wonderful Ripple on the Water&nbsp\;Restaurant- Winner of the Peoples Choice Award at this year&#39\;s ClamFest.</p>\n
LOCATION:Ripple on the Water 74 Main St Essex\, MA 01929
UID:e.2981.21721
SEQUENCE:3
DTSTAMP:20260424T090649Z
URL:https://business.capeannchamber.com/events/details/chamber-essex-division-holiday-party-21721
END:VEVENT

END:VCALENDAR
