BEGIN:VCALENDAR
VERSION:2.0
PRODID:-//ChamberMaster//Event Calendar 2.0//EN
METHOD:PUBLISH
X-PUBLISHED-TTL:P3D
REFRESH-INTERVAL:P3D
CALSCALE:GREGORIAN
BEGIN:VEVENT
DTSTART:20221016T130000Z
DTEND:20221016T200000Z
X-MICROSOFT-CDO-ALLDAYEVENT:FALSE
SUMMARY:Castle Hill Vintage Car Hill Climb
DESCRIPTION:Join The Trustees and the Vintage Sports Car Club of America for an exciting new event featuring pre-WWII cars competing in times races. Come for the day and enjoy live music\, food trucks\, a bootlegger's garden and picnicking on the lawn! Schedule a 30-minute guided Great House tour set in 1929. A Crane maid or footman will show you guest and family rooms. Advance tour reservations and additional fee are required.\n\nPre-order a picnic lunch from Ferreira Foods and pick it up onsite. Ferreira Foods\, Q's Nuts and Beefie Boys will sell sandwiches\, salads\, roast nuts\, popcorn\, sweets\, and hot beverages throughout the day. True North Ales\, Mill River Winery\, and 1634 Meadery will sell alcohol the bootlegger's garden.\n\nCars will race in the morning and again in the afternoon with a midday lunch break when the autos will be on display in the Great House forecourt. Designated viewing spots will allow spectators to safely watch the races.\n\nAdvance event reservations are recommended.
X-ALT-DESC;FMTTYPE=text/html:<p>Join The Trustees and the Vintage Sports Car Club of America for an exciting new event featuring pre-WWII cars competing in times races. Come for the day and enjoy live music\, food trucks\, a bootlegger&rsquo\;s garden and picnicking on the lawn! Schedule a 30-minute guided Great House tour set in 1929. A Crane maid or footman will show you guest and family rooms. Advance tour reservations and additional fee are required.</p>\n\n<p>Pre-order a picnic lunch from&nbsp\;<a href="https://ferreirafoods.com/" style="box-sizing: inherit\; color: rgb(55\, 61\, 57)\; text-decoration: none\; transition: all 0.3s cubic-bezier(0.25\, 0.46\, 0.45\, 0.94) 0s\; line-height: 30px\; letter-spacing: 0.012em\; border-bottom-width: 1px\; border-bottom-style: solid\; border-bottom-color: rgb(86\, 150\, 2)\;" target="_blank">Ferreira Foods</a>&nbsp\;and pick it up onsite. Ferreira Foods\,&nbsp\;<a href="https://qsnuts.com/" style="box-sizing: inherit\; color: rgb(55\, 61\, 57)\; text-decoration: none\; transition: all 0.3s cubic-bezier(0.25\, 0.46\, 0.45\, 0.94) 0s\; line-height: 30px\; letter-spacing: 0.012em\; border-bottom-width: 1px\; border-bottom-style: solid\; border-bottom-color: rgb(86\, 150\, 2)\;" target="_blank">Q&rsquo\;s Nuts</a>&nbsp\;and&nbsp\;<a href="https://beefieboys.com/" style="box-sizing: inherit\; color: rgb(55\, 61\, 57)\; text-decoration: none\; transition: all 0.3s cubic-bezier(0.25\, 0.46\, 0.45\, 0.94) 0s\; line-height: 30px\; letter-spacing: 0.012em\; border-bottom-width: 1px\; border-bottom-style: solid\; border-bottom-color: rgb(86\, 150\, 2)\;" target="_blank">Beefie Boys</a>&nbsp\;will sell sandwiches\, salads\, roast nuts\, popcorn\, sweets\, and hot beverages throughout the day.&nbsp\;<a href="https://www.truenorthales.com/" style="box-sizing: inherit\; color: rgb(55\, 61\, 57)\; text-decoration: none\; transition: all 0.3s cubic-bezier(0.25\, 0.46\, 0.45\, 0.94) 0s\; line-height: 30px\; letter-spacing: 0.012em\; border-bottom-width: 1px\; border-bottom-style: solid\; border-bottom-color: rgb(86\, 150\, 2)\;" target="_blank">True North Ales</a>\,&nbsp\;<a href="https://www.millriverwines.com/" style="box-sizing: inherit\; color: rgb(55\, 61\, 57)\; text-decoration: none\; transition: all 0.3s cubic-bezier(0.25\, 0.46\, 0.45\, 0.94) 0s\; line-height: 30px\; letter-spacing: 0.012em\; border-bottom-width: 1px\; border-bottom-style: solid\; border-bottom-color: rgb(86\, 150\, 2)\;" target="_blank">Mill River Winery</a>\, and&nbsp\;<a href="https://1634meadery.com/" style="box-sizing: inherit\; color: rgb(55\, 61\, 57)\; text-decoration: none\; transition: all 0.3s cubic-bezier(0.25\, 0.46\, 0.45\, 0.94) 0s\; line-height: 30px\; letter-spacing: 0.012em\; border-bottom-width: 1px\; border-bottom-style: solid\; border-bottom-color: rgb(86\, 150\, 2)\;" target="_blank">1634 Meadery</a>&nbsp\;will sell alcohol the bootlegger&rsquo\;s garden.</p>\n\n<p>Cars will race in the morning and again in the afternoon with a midday lunch break when the autos will be on display in the Great House forecourt. Designated viewing spots will allow spectators to safely watch the races.</p>\n\n<p>Advance event reservations are recommended.</p>\n
LOCATION:Castle Hill on the Crane Estate 290 Argilla Road Ipswich\, MA 01938
UID:e.2981.23030
SEQUENCE:3
DTSTAMP:20260424T123631Z
URL:https://business.capeannchamber.com/events/details/castle-hill-vintage-car-hill-climb-23030
END:VEVENT

END:VCALENDAR
