BEGIN:VCALENDAR
VERSION:2.0
PRODID:-//ChamberMaster//Event Calendar 2.0//EN
METHOD:PUBLISH
X-PUBLISHED-TTL:P3D
REFRESH-INTERVAL:P3D
CALSCALE:GREGORIAN
BEGIN:VEVENT
DTSTART:20250824T210000Z
DTEND:20250824T233000Z
X-MICROSOFT-CDO-ALLDAYEVENT:FALSE
SUMMARY:Carlos Menezes\, Jr.'s BrassFed Nation
DESCRIPTION:Carlos Menezes\, Jr.'s BrassFed Nation is a horn-driven groove machine with a unique sound incorporating the styles and traditions of early jazz\, New Orleans funk & soul\, rhythm & blues\, calypso and Jamaican ska! Paying homage to the infectious beat and sound of the New Orleans Brass and Second-Line traditions\, this year's program will transport audience members to the streets of New Orleans for a musical "Gumbo" inspired by the sounds of the Caribbean!
X-ALT-DESC;FMTTYPE=text/html:<span style="color:rgb(0\, 0\, 0)\; font-family:open sans\,arial\,helvetica\,sans-serif\; font-size:16px">Carlos Menezes\, Jr.&rsquo\;s BrassFed Nation is a horn-driven groove machine with a unique sound incorporating the styles and traditions of early jazz\, New Orleans funk &amp\; soul\, rhythm &amp\; blues\, calypso and Jamaican ska! Paying homage to the infectious beat and sound of the New Orleans Brass and Second-Line traditions\, this year&rsquo\;s program will transport audience members to the streets of New Orleans for a musical &ldquo\;Gumbo&rdquo\; inspired by the sounds of the Caribbean!</span>
LOCATION:37 Main St\, Rockport\, MA 01966
UID:e.2981.36777
SEQUENCE:3
DTSTAMP:20260424T235818Z
URL:https://business.capeannchamber.com/events/details/carlos-menezes-jr-s-brassfed-nation-36777
END:VEVENT

END:VCALENDAR
