BEGIN:VCALENDAR
VERSION:2.0
PRODID:-//ChamberMaster//Event Calendar 2.0//EN
METHOD:PUBLISH
X-PUBLISHED-TTL:P3D
REFRESH-INTERVAL:P3D
CALSCALE:GREGORIAN
BEGIN:VEVENT
DTSTART:20211208T223000Z
DTEND:20211208T233000Z
X-MICROSOFT-CDO-ALLDAYEVENT:FALSE
SUMMARY:Care Dimensions Tree of Lights: Lights Across the Community
DESCRIPTION:Care Dimensions\, a nonprofit and the largest hospice organization in Massachusetts\, invites members of the community to celebrate the memory of a loved one and support its hospice mission by illuminating a symbolic light\, inscribing their name in the Care Dimensions Tribute Book and donating to help bring hope to others for peace and comfort along their end-of-life journey.\n\nThe annual broadcast of the Tree of Lights ceremony is Wednesday\, December 8th at 5:30 p.m. and you can sponsor a light through December 4th to appear in the Care Dimensions Tribute Book in time for the event. Names received after December 4th will be added the following week. Due to COVID precautions and to protect the health of the community\, our program is available only online and there will be no in-person tree-lighting ceremonies.\n\n\n\nWe welcome you to join our virtual program and to sponsor a light on www.CareDimensions.org/TreeofLights. Your donation supports the Care Dimensions mission to provide advanced illness care services to patients and their families in more than 100 communities in Massachusetts. Call 978-223-9787 for more information.\n\n \n\nAfter December 8th\, lights will shine across the community at the following locations:\n\n	Care Dimensions Hospice House\, Lincoln\n	Kaplan Family Hospice House\, Danvers\n	People's United Bank\, Danvers Square\n	BankGloucester\, Gloucester\n	Swampscott Town Hall\, Swampscott\n\nWe encourage you to illuminate a light in a place that is meaningful to you.\n\n \n\n"This tradition is long and so special to so many of us for many generations and we're so proud to be able to do this\," said President & CEO Pat Ahern. "Every light represents someone you've loved and lost. Healing happens when caregivers have the support they deserve and need and when the bereaved among us are consoled.."\n\n \n\nWe also offer our Coping with the Holidays workshop immediately following the ceremony. Our Bereavement Department's virtual workshop is for anyone who has experienced a death this year. If you plan to attend or have questions\, please RSVP to Grief@CareDimensions.org or call 978-774-5100.
X-ALT-DESC;FMTTYPE=text/html:<span style="font-family:cambria\,serif">Care Dimensions\, a nonprofit and the largest hospice organization in Massachusetts\, invites members of the community to celebrate the memory of a loved one and support its hospice mission by illuminating a symbolic light\, inscribing their name in the Care Dimensions Tribute Book and donating to help bring hope to others for peace and comfort along their end-of-life journey.</span><br />\n<span style="font-family:cambria\,serif">The annual broadcast of the Tree of Lights ceremony is Wednesday\, December 8<sup>th</sup> at 5:30 p.m. and you can sponsor a light through December 4<sup>th</sup> to appear in the Care Dimensions Tribute Book in time for the event. Names received after December 4<sup>th</sup> will be added the following week. Due to COVID precautions and to protect the health of the community\, our program is available only online and there will be no in-person tree-lighting ceremonies.</span><br />\n<br />\n<span style="font-family:cambria\,serif">We welcome you to join our virtual program and to sponsor a light on </span><a href="http://www.caredimensions.org/TreeofLights"><span style="font-family:cambria\,serif">www.CareDimensions.org/TreeofLights</span></a><span style="font-family:cambria\,serif">. Your donation supports the Care Dimensions mission to provide advanced illness care services to patients and their families in more than 100 communities in Massachusetts. Call 978-223-9787 for more information.</span><br />\n&nbsp\;<br />\n<span style="font-family:cambria\,serif">After December 8<sup>th</sup>\, lights will shine across the community at the following locations:</span>\n<ul>\n	<li><span style="font-family:cambria\,serif">Care Dimensions Hospice House\, Lincoln</span></li>\n	<li><span style="font-family:cambria\,serif">Kaplan Family Hospice House\, Danvers</span></li>\n	<li><span style="font-family:cambria\,serif">People&#39\;s United Bank\, Danvers Square</span></li>\n	<li><span style="font-family:cambria\,serif">Bank<em>Gloucester</em>\, Gloucester</span></li>\n	<li><span style="font-family:cambria\,serif">Swampscott Town Hall\, Swampscott</span></li>\n</ul>\n<span style="font-family:cambria\,serif">We encourage you to illuminate a light in a place that is meaningful to you.</span><br />\n&nbsp\;<br />\n<span style="font-family:cambria\,serif">&ldquo\;This tradition is long and so special to so many of us for many generations and we&rsquo\;re so proud to be able to do this\,&rdquo\; said President &amp\; CEO Pat Ahern. &ldquo\;Every light represents someone you&rsquo\;ve loved and lost. Healing happens when caregivers have the support they deserve and need and when the bereaved among us are consoled..&rdquo\;</span><br />\n&nbsp\;<br />\n<span style="font-family:cambria\,serif">We also offer our Coping with the Holidays workshop immediately following the ceremony. Our Bereavement Department&rsquo\;s virtual workshop is for anyone who has experienced a death this year. If you plan to attend or have questions\, please RSVP to </span><a href="mailto:Grief@CareDimensions.org"><span style="font-family:cambria\,serif">Grief@CareDimensions.org</span></a><span style="font-family:cambria\,serif"> or call 978-774-5100.</span>
LOCATION:Will be broadcast on www.CareDimensions.org/TreeofLights
UID:e.2981.21402
SEQUENCE:3
DTSTAMP:20260425T004110Z
URL:https://business.capeannchamber.com/events/details/care-dimensions-tree-of-lights-lights-across-the-community-21402
END:VEVENT

END:VCALENDAR
