BEGIN:VCALENDAR
VERSION:2.0
PRODID:-//ChamberMaster//Event Calendar 2.0//EN
METHOD:PUBLISH
X-PUBLISHED-TTL:P3D
REFRESH-INTERVAL:P3D
CALSCALE:GREGORIAN
BEGIN:VEVENT
DTSTART:20131222T003000Z
DTEND:20131222T003000Z
X-MICROSOFT-CDO-ALLDAYEVENT:FALSE
SUMMARY:Cape Ann Winter Solstice Concert
DESCRIPTION:Cape Ann's top musicians come together this holiday season to celebrate the Winter Solstice and help raise money for Gloucester's historic UU Meetinghouse restoration project. Award-winning singer/songwriter\, Allen Estes is back with Matt Leavenworth on guitar and fiddle\, Wolf Ginandes on bass and Fairport Convention founder Dave Mattacks on drums -- all of whom brought us a magical night at the Larcom Theatre in October.\nSharing the stage with Allen and his band are some of Cape Ann's top performers\, from have a dozen genres\, who come to celebrate the power of music to bring people together and lift our spirits.\nWillie Loco Alexander & The Raztones\, Fly Amero\, Gordon Baird\, Inge Berge\, Charlee Bianchini\, Ken Bonfield\, Dan King\, T Max\, Michael O'Leary.  \n\nSpecial Appearance: Gloucester Police Chief\, Lenny Campanello sings Springsteen.\n\nTICKETS	\nGeneral Admission\n$20 Advance\n$15 Child/Senior\n(under 12/over 65)\nReserved Pews\n$225 Seats 12\n$195 Seats 10\n\nThe entire concert will be taped for a Local Music Seen Christmas Special to be shown on Cape Ann TV.
X-ALT-DESC;FMTTYPE=text/html:Cape Ann's top musicians come together this holiday season to celebrate the Winter Solstice and help raise money for Gloucester's historic UU Meetinghouse restoration project. Award-winning singer/songwriter\, Allen Estes is back with Matt Leavenworth on guitar and fiddle\, Wolf Ginandes on bass and Fairport Convention founder Dave Mattacks on drums -- all of whom brought us a magical night at the Larcom Theatre in October.\nSharing the stage with Allen and his band are some of Cape Ann's top performers\, from have a dozen genres\, who come to celebrate the power of music to bring people together and lift our spirits.\nWillie Loco Alexander & The Raztones\, Fly Amero\, Gordon Baird\, Inge Berge\, Charlee Bianchini\, Ken Bonfield\, Dan King\, T Max\, Michael O'Leary.  \n\nSpecial Appearance: Gloucester Police Chief\, Lenny Campanello sings Springsteen.\n\nTICKETS	\nGeneral Admission\n$20 Advance\n$15 Child/Senior\n(under 12/over 65)\nReserved Pews\n$225 Seats 12\n$195 Seats 10\n\nThe entire concert will be taped for a Local Music Seen Christmas Special to be shown on Cape Ann TV.
LOCATION:10 Church Street\, Gloucester\, Ma 01930 At Gloucester Unitarian Universalist Church - corner of Middle & Church Street Gloucester MA
UID:e.2981.1166
SEQUENCE:3
DTSTAMP:20260420T035122Z
URL:https://business.capeannchamber.com/events/details/cape-ann-winter-solstice-concert-12-21-2013-1166
END:VEVENT

END:VCALENDAR
