BEGIN:VCALENDAR
VERSION:2.0
PRODID:-//ChamberMaster//Event Calendar 2.0//EN
METHOD:PUBLISH
X-PUBLISHED-TTL:P3D
REFRESH-INTERVAL:P3D
CALSCALE:GREGORIAN
BEGIN:VEVENT
DTSTART:20250928T180000Z
DTEND:20250928T200000Z
X-MICROSOFT-CDO-ALLDAYEVENT:FALSE
SUMMARY:Cape Ann Symphony--Season 74
DESCRIPTION:Season 74\n\nThe Virtuoso Orchestra\n\nFeaturing Holst\, Mussorgsky and Ravel
X-ALT-DESC;FMTTYPE=text/html:Season 74<br />\nThe Virtuoso Orchestra<br />\nFeaturing Holst\, Mussorgsky and Ravel
LOCATION:Manchester Essex Regional High School
UID:e.2981.43050
SEQUENCE:3
DTSTAMP:20260425T011227Z
URL:https://business.capeannchamber.com/events/details/cape-ann-symphony-season-74-43050
END:VEVENT

END:VCALENDAR
