BEGIN:VCALENDAR
VERSION:2.0
PRODID:-//ChamberMaster//Event Calendar 2.0//EN
METHOD:PUBLISH
X-PUBLISHED-TTL:P3D
REFRESH-INTERVAL:P3D
CALSCALE:GREGORIAN
BEGIN:VEVENT
DTSTART;VALUE=DATE:20260528
DTEND;VALUE=DATE:20260601
TRANSP:TRANSPARENT
X-MICROSOFT-CDO-ALLDAYEVENT:TRUE
SUMMARY:Cape Ann Pride 2026!
DESCRIPTION:Join us for our third annual Cape Ann Pride! \n\n\n\nA celebration of pride\, community\, fun\, and support for all LGBTQIA+ people and their allies.  Let's come together to honor love\, equality\, and diversity on Cape Ann and beyond!\n\n\n\nCape Ann Pride 2026\n\nThe third annual Cape Ann Pride spans Greater Cape Ann\, kicking off with a Progress Pride Flag Raising at Gloucester City Hall on Thursday\, May 28 at 4 PM\, followed immediately by a free kick-off party "Out by the Ocean" at Drift in Gloucester. Friday\, May 29 will see the return of the Birdseye Rooftop Pool Deck "Oceans of Pride" ticketed fundraising dance/pool party at the Beauport Hotel in Gloucester. Saturday\, May 30 will bring the world-renowned musicians\, DJs\, and performance artists "The Illustrious Blacks" to the Cut in Gloucester (doorst at 7\, show at 8 PM)\, and Sunday May 31 the return of FREE "Cape Ann Families Bowl With Pride" at Cape Ann Lanes\, most likely 12-4 PM. Full details will be updated regularly on www.capeannpride.org\, along with information on our 2026 Sponsors.
X-ALT-DESC;FMTTYPE=text/html:<span style="color:#4B0082\;"><span style="font-size:20px\;"><strong>Join us for our third annual Cape Ann Pride!&nbsp\;</strong></span></span><br />\n<br />\n<span style="color:#800000\;"><span style="font-size:14px\;">A celebration of pride\, community\, fun\, and support for all LGBTQIA+ people and their allies.&nbsp\; Let&#39\;s come together to honor love\, equality\, and diversity on Cape Ann and beyond!</span></span><br />\n<br />\n<span style="font-size:16px\;"><em>Cape Ann Pride 2026</em></span><br />\n<span style="font-family:aptos\,sans-serif\;"><span style="font-size:12.0pt\;">The third annual Cape Ann Pride spans Greater Cape Ann\, kicking off with a Progress Pride Flag Raising at Gloucester City Hall on Thursday\, May 28 at 4 PM\, followed immediately by a free kick-off party &quot\;Out by the Ocean&quot\; at Drift in Gloucester. Friday\, May 29 will see the return of the Birdseye Rooftop Pool Deck &quot\;Oceans of Pride&quot\; ticketed fundraising dance/pool party at the Beauport Hotel in Gloucester. Saturday\, May 30 will bring the world-renowned musicians\, DJs\, and performance artists &quot\;The Illustrious Blacks&quot\; to the Cut in Gloucester (doorst at 7\, show at 8 PM)\, and Sunday May 31 the return of FREE &quot\;Cape Ann Families Bowl With Pride&quot\; at Cape Ann Lanes\, most likely 12-4 PM. Full details will be updated regularly on <a href="http://www.capeannpride.org">www.capeannpride.org</a>\, along with information on our 2026 Sponsors.</span></span><br />\n<br />\n&nbsp\;
LOCATION:Greater Cape Ann Gloucester\, MA 01930 Essex\, MA 01929 Rockport\, MA 01966
UID:e.2981.45918
SEQUENCE:3
DTSTAMP:20260426T042141Z
URL:https://business.capeannchamber.com/events/details/cape-ann-pride-2026-45918
END:VEVENT

END:VCALENDAR
