BEGIN:VCALENDAR
VERSION:2.0
PRODID:-//ChamberMaster//Event Calendar 2.0//EN
METHOD:PUBLISH
X-PUBLISHED-TTL:P3D
REFRESH-INTERVAL:P3D
CALSCALE:GREGORIAN
BEGIN:VEVENT
DTSTART:20221217T160000Z
DTEND:20221217T200000Z
X-MICROSOFT-CDO-ALLDAYEVENT:FALSE
SUMMARY:Cape Ann Makers Market - Last Chance Holiday Market
DESCRIPTION:Cape Ann Makers Market featuring 13 vendors specifically chosen for the giftability of their products! Everything from candles\, soaps\, body care\, sea salts\, jewelry\, handcrafted bags\, pottery\, photography and more! All handcrafted by local artisans. Get your last minute shopping done or buy yourself something nice for the New Year.
X-ALT-DESC;FMTTYPE=text/html:Cape Ann Makers Market featuring 13 vendors specifically chosen for the giftability of their products! Everything from candles\, soaps\, body care\, sea salts\, jewelry\, handcrafted bags\, pottery\, photography and more! All handcrafted by local artisans. Get your last minute shopping done or buy yourself something nice for the New Year.
LOCATION:West Gloucester Trinitarian Congregational Church 488 Essex Ave Gloucester MA
UID:e.2981.24561
SEQUENCE:3
DTSTAMP:20260424T090618Z
URL:https://business.capeannchamber.com/events/details/cape-ann-makers-market-last-chance-holiday-market-24561
END:VEVENT

END:VCALENDAR
