BEGIN:VCALENDAR
VERSION:2.0
PRODID:-//ChamberMaster//Event Calendar 2.0//EN
METHOD:PUBLISH
X-PUBLISHED-TTL:P3D
REFRESH-INTERVAL:P3D
CALSCALE:GREGORIAN
BEGIN:VEVENT
DTSTART:20241201T150000Z
DTEND:20241201T210000Z
X-MICROSOFT-CDO-ALLDAYEVENT:FALSE
SUMMARY:Cape Ann Makers Market - Holiday Sip & Shop at Cruiseport Gloucester
DESCRIPTION:Come get your Christmas and Holiday gift giving done while you sip a beverage\, listen to music and from shop the two floors of more than 50 local artisans\, crafters and makers featuring pottery\, jewelry\, ornaments\, wreaths\, home goods\, artwork\, prints\, soaps and body care\, teas\, jams\, sea salt\, crochet items\, photography\, clothing\, bags! There's something for everyone! \n\n \nThe Ballroom bar will be open to purchase beverages to sip and shop or take a break between shopping by the fireplace or outside on the balcony. Have lunch next door at Seaport and then shop some more!
X-ALT-DESC;FMTTYPE=text/html:<span style="font-size:14px"><span style="color:rgb(8\, 8\, 9)\; font-family:segoe ui historic\,segoe ui\,helvetica\,arial\,sans-serif">Come get your Christmas and Holiday gift giving done while you sip a beverage\, listen to music and from shop the two floors of more than 50 local artisans\, crafters and makers featuring&nbsp\;</span>pottery\, jewelry\, ornaments\, wreaths\, home goods\, artwork\, prints\, soaps and body care\, teas\, jams\, sea salt\, crochet items\, photography\, clothing\, bags! There&#39\;s something for everyone!&nbsp\;<br />\n&nbsp\;</span>\n<div><span style="font-size:14px">The Ballroom bar will be open to purchase beverages to sip and shop or take a break between shopping by the fireplace or outside on the balcony. Have lunch next door at Seaport and then shop some more!</span></div>\n<br />\n<br />\n&nbsp\;
LOCATION:Cruiseport Gloucester\, 6 Rowe Square\, Gloucester\, MA 01930
UID:e.2981.34138
SEQUENCE:3
DTSTAMP:20260424T124015Z
URL:https://business.capeannchamber.com/events/details/cape-ann-makers-market-holiday-sip-shop-at-cruiseport-gloucester-34138
END:VEVENT

END:VCALENDAR
