BEGIN:VCALENDAR
VERSION:2.0
PRODID:-//ChamberMaster//Event Calendar 2.0//EN
METHOD:PUBLISH
X-PUBLISHED-TTL:P3D
REFRESH-INTERVAL:P3D
CALSCALE:GREGORIAN
BEGIN:VEVENT
DTSTART:20241215T160000Z
DTEND:20241215T210000Z
X-MICROSOFT-CDO-ALLDAYEVENT:FALSE
SUMMARY:Cape Ann Makers Market - Holiday Market at The Cut
DESCRIPTION:Come sip on some beverages while you finish up your Holiday shopping at Gloucester's newest entertainment venture\, The Cut\,  with 30 local artisans\, crafters and maker vendors. The Cut bar and takeout window will be open! Live music by Rockport's Jules DaSilva and friends!\n\n\n\nDecember 15th vendors include:\n\nAngies Alpaca\n\nArdizzoni Photography\n\nCape Ann Art\n\nCape Ann Sea Salt\n\nEleven Eleven Elixir\n\nGlosta Sea Glass Creations\n\nGriffin Woodworking\n\nHold Fast Company\n\nJoes Fresh Fish Prints\n\nJquirkycrafts\n\nKerrie James Art\n\nLauralee's Country Kitchen\n\nLily Johannsen Designs\n\nLotus and Star\n\nMayhewn Studio\n\nMosaics Gloucester\n\nChristina Carpenter\n\nNala Designs Metalworks\n\nPat D's Photos\n\nSavanti Teas\n\nSeacoast Ceramics\n\nSelkie Handknits\n\nStephanies Scents\n\nSteve's Rope Splicing\n\nStockingfoot Knits\n\nThe Rooster's Closet\n\nThe Salty Sea Gypsy\n\nTrue Scoop
X-ALT-DESC;FMTTYPE=text/html:<div>Come sip on some beverages while you finish up your Holiday shopping at Gloucester&#39\;s newest entertainment venture\, The Cut\,&nbsp\; with 30 local artisans\, crafters and maker vendors. The Cut bar and takeout window will be open! Live music by Rockport&#39\;s Jules DaSilva and friends!</div>\n\n<div><br />\n<strong>December 15th vendors include:</strong></div>\n\n<div>Angies Alpaca<br />\nArdizzoni Photography<br />\nCape Ann Art<br />\nCape Ann Sea Salt<br />\nEleven Eleven Elixir<br />\nGlosta Sea Glass Creations<br />\nGriffin Woodworking<br />\nHold Fast Company<br />\nJoes Fresh Fish Prints<br />\nJquirkycrafts<br />\nKerrie James Art<br />\nLauralee&#39\;s Country Kitchen<br />\nLily Johannsen Designs<br />\nLotus and Star<br />\nMayhewn Studio<br />\nMosaics Gloucester<br />\nChristina Carpenter<br />\nNala Designs Metalworks<br />\nPat D&rsquo\;s Photos<br />\nSavanti Teas<br />\nSeacoast Ceramics<br />\nSelkie Handknits<br />\nStephanies Scents<br />\nSteve&#39\;s Rope Splicing<br />\nStockingfoot Knits<br />\nThe Rooster&#39\;s Closet<br />\nThe Salty Sea Gypsy<br />\nTrue Scoop</div>\n<br />\n<br />\n&nbsp\;
LOCATION:The Cut\, 177 Main Street\, Gloucester\, MA 01930
UID:e.2981.34139
SEQUENCE:3
DTSTAMP:20260424T140549Z
URL:https://business.capeannchamber.com/events/details/cape-ann-makers-market-holiday-market-at-the-cut-34139
END:VEVENT

END:VCALENDAR
