BEGIN:VCALENDAR
VERSION:2.0
PRODID:-//ChamberMaster//Event Calendar 2.0//EN
METHOD:PUBLISH
X-PUBLISHED-TTL:P3D
REFRESH-INTERVAL:P3D
CALSCALE:GREGORIAN
BEGIN:VEVENT
DTSTART:20231008T150000Z
DTEND:20231008T210000Z
X-MICROSOFT-CDO-ALLDAYEVENT:FALSE
SUMMARY:Cape Ann Makers Market - Fall Market at Magtoberfest
DESCRIPTION:Jump start your holiday shopping at Cape Ann Makers Market's Fall Market located inside the Magnolia Library and Community Room during the 3rd annual MAGTOBERFEST on Sunday\, October 8th. This Fall Market will feature 24 Cape Ann artisans\, crafters and makers\, showcasing handcrafted jewelry\, pottery\, printing\, painting\, photography\, woodworking\, stained glass\, fiber arts\, handcrafted salts\, body care\, and so much more!\n\n\n\nVisitors can also stroll all along Lexington Ave to check out the last local farm stand offerings of the season along with a classic car display\, live music performances\, a great line up of local food trucks\, the Biergarten\, and other fun activities!\n\n \n\nCAMM'S FALL MARKET @MAGTOBERFEST VENDORS INCLUDE:\n\n\n\nAngies Alpaca\n\nArdizzoni Photography\n\nAudi Souza Arts\n\nBelo The Sea Treasures\n\nCape Ann Sea Salt\n\nCrafty Teacher MA\n\nEleven Eleven Elixir\n\nGerrie Maffris Micro Macrame Jewelry\n\nGlass After Hours\n\nGlosta Seaglass Creations\n\nHold Fast Company\n\nIron Branch Design\n\nMayhewn Studio\n\nPat D's Photos\n\nRobinson-Cox Studio aka Lilliputian Landscapes\n\nRocky Neck Aprons\n\nSeasons Of New England\n\nSelkie Handknits\n\nSew Nice\n\nStephanies Scents\n\nStockingfoot Knits\n\nThe Rooster's Closet\n\nVisual Interest
X-ALT-DESC;FMTTYPE=text/html:<div>Jump start your holiday shopping at Cape Ann Makers Market&#39\;s Fall Market located inside the Magnolia Library and Community Room during the 3rd annual MAGTOBERFEST on Sunday\, October 8th. This Fall Market will feature 24 Cape Ann artisans\, crafters and makers\, showcasing handcrafted jewelry\, pottery\, printing\, painting\, photography\, woodworking\, stained glass\, fiber arts\, handcrafted salts\, body care\, and so much more!</div>\n\n<div><br />\nVisitors can also stroll all along Lexington Ave to check out the last local farm stand offerings of the season along with a classic car display\, live music performances\, a great line up of local food trucks\, the Biergarten\, and other fun activities!<br />\n&nbsp\;</div>\n\n<div>CAMM&#39\;S FALL MARKET @MAGTOBERFEST VENDORS INCLUDE:<br />\n<br />\nAngies Alpaca<br />\nArdizzoni Photography<br />\nAudi Souza Arts<br />\nBelo The Sea Treasures<br />\nCape Ann Sea Salt<br />\nCrafty Teacher MA<br />\nEleven Eleven Elixir<br />\nGerrie Maffris Micro Macrame Jewelry<br />\nGlass After Hours<br />\nGlosta Seaglass Creations<br />\nHold Fast Company<br />\nIron Branch Design<br />\nMayhewn Studio<br />\nPat D&#39\;s Photos<br />\nRobinson-Cox Studio aka Lilliputian Landscapes<br />\nRocky Neck Aprons<br />\nSeasons Of New England<br />\nSelkie Handknits<br />\nSew Nice<br />\nStephanies Scents<br />\nStockingfoot Knits<br />\nThe Rooster&#39\;s Closet<br />\nVisual Interest</div>\n
LOCATION:Inside the Magnolia Library & Community Center\, 1 Lexington Avenue\, Gloucester\, MA 01930 Magtoberfest block party festivities found all along Lexington Avenue
UID:e.2981.26333
SEQUENCE:3
DTSTAMP:20260421T215111Z
URL:https://business.capeannchamber.com/events/details/cape-ann-makers-market-fall-market-at-magtoberfest-26333
END:VEVENT

END:VCALENDAR
