BEGIN:VCALENDAR
VERSION:2.0
PRODID:-//ChamberMaster//Event Calendar 2.0//EN
METHOD:PUBLISH
X-PUBLISHED-TTL:P3D
REFRESH-INTERVAL:P3D
CALSCALE:GREGORIAN
BEGIN:VEVENT
DTSTART:20251012T150000Z
DTEND:20251012T210000Z
X-MICROSOFT-CDO-ALLDAYEVENT:FALSE
SUMMARY:Cape Ann Makers Market - Fall Market at 5th Annual Magtoberfest
DESCRIPTION:Cape Ann Makers Market\, in partnership with the Magnolia Library and Community Center will be hosting its 5th Annual MAGTOBERFEST Market as part of the Lexington Avenue block party festivities on Sunday\, October 12th from 11 am to 5 pm.\n\nJump start the holiday shopping at Cape Ann Makers Market located inside the library's community room. The MAGTOBERFEST Market will feature 24 local artisans\, crafters and makers\, showcasing handcrafted jewelry\, pottery\, printing\, painting\, photography\, woodworking\, stained glass\, fiber arts\, handcrafted salts\, body care and much more.\n\nThen take a stroll all along Lexington Ave and enjoy the classic car display\, live music performances\, a great line up of local food trucks\, beer garden\, and other fun activities!\n\nMaker Market Vendors Include:\n\nAngie's Alpacas\n\nArdizzoni Photography\n\nCape Ann Sea Salt\n\nCrafty Teacher\n\nGlass After Hours\n\nGlosta Sea Glass Creations\n\nHold Fast Company\n\nLauralee's Country Kitchen\n\nPat D's Photos\n\nSargents Sweets\n\nSavanti Teas\n\nSelkie Handknits\n\nSew Nice\n\nThe Rooster's Closet\n\nVisual Interest\n\nand more!
X-ALT-DESC;FMTTYPE=text/html:<p>Cape Ann Makers Market\, in partnership with the <strong>Magnolia Library and Community Center</strong> will be hosting its 5th Annual MAGTOBERFEST Market as part of the Lexington Avenue block party festivities on <strong>Sunday\, October 12th from 11 am to&nbsp\;5 pm.</strong></p>\n\n<p>Jump start&nbsp\;the holiday shopping at Cape Ann Makers Market located inside the library&rsquo\;s community room. The MAGTOBERFEST Market will feature 24 local artisans\, crafters and makers\, showcasing handcrafted jewelry\, pottery\, printing\, painting\, photography\, woodworking\, stained glass\, fiber arts\, handcrafted salts\, body care and much more.</p>\n\n<p>Then take a stroll all along Lexington Ave and enjoy the classic car display\, live music performances\, a great line up of local food trucks\, beer garden\, and other fun activities!</p>\n\n<p><strong>Maker Market Vendors Include:</strong></p>\n\n<p>Angie&#39\;s Alpacas</p>\n\n<p>Ardizzoni Photography</p>\n\n<p>Cape Ann Sea Salt</p>\n\n<p>Crafty Teacher</p>\n\n<p>Glass After Hours</p>\n\n<p>Glosta Sea Glass Creations</p>\n\n<p>Hold Fast Company</p>\n\n<p>Lauralee&#39\;s Country Kitchen</p>\n\n<p>Pat D&#39\;s Photos</p>\n\n<p>Sargents Sweets</p>\n\n<p>Savanti Teas</p>\n\n<p>Selkie Handknits</p>\n\n<p>Sew Nice</p>\n\n<p>The Rooster&#39\;s Closet</p>\n\n<p>Visual Interest</p>\n\n<p>and more!</p>\n\n<p>&nbsp\;</p>\n\n<p>&nbsp\;</p>\n
LOCATION:Inside the Magnolia Library & Community Center\, 1 Lexington Avenue\, Gloucester\, MA 01930 5th Annual Magtoberfest block party festivities found all along Lexington Avenue
UID:e.2981.44882
SEQUENCE:3
DTSTAMP:20260422T051139Z
URL:https://business.capeannchamber.com/events/details/cape-ann-makers-market-fall-market-at-5th-annual-magtoberfest-44882
END:VEVENT

END:VCALENDAR
