BEGIN:VCALENDAR
VERSION:2.0
PRODID:-//ChamberMaster//Event Calendar 2.0//EN
METHOD:PUBLISH
X-PUBLISHED-TTL:P3D
REFRESH-INTERVAL:P3D
CALSCALE:GREGORIAN
BEGIN:VEVENT
DTSTART:20251012T150000Z
DTEND:20251012T210000Z
X-MICROSOFT-CDO-ALLDAYEVENT:FALSE
SUMMARY:Cape Ann Makers Market at Magtoberfest
DESCRIPTION:Come celebrate fall at the Cape Ann Makers Market\, part of this year's Magtoberfest!\n\nInside the Magnolia Library's community room\, you'll find 24 talented local artisans\, crafters\, and makers offering handmade gifts\, crafts\, and treats. Outside\, Lexington Avenue will come alive with live music\, antique cars\, food trucks\, and a beer garden a perfect day to shop local and enjoy the festival atmosphere!\n\nParticipating Vendors:\n\nAngies Alpaca   Ardizzoni Photography   Cape Ann Sea Salt   Crafty Teacher   Deb Debski Designs   Dragonfly Designs   Essex Knits and Knots   Glass After Hours   Glosta Seaglass Creations   Hold Fast Company   Lauralee's Country Kitchen   Lily Johannsen Designs   Mosaics Gloucester   Nala Designs Metalwork   Pat D's Photos   Petdoc Pottery   Sargents Sweets   Savanti Healing   Selkie Handknits   Sew Nice   Spark Joy Jillian Candles   Stockingfoot Knits   The Rooster's Closet   Three Gingers Beef Jerky\n\nShop local\, support Cape Ann's makers\, and enjoy a fun-filled day in Magnolia!
X-ALT-DESC;FMTTYPE=text/html:<p>Come celebrate fall at the <strong>Cape Ann Makers Market</strong>\, part of this year&rsquo\;s <strong>Magtoberfest</strong>!</p>\n\n<p>Inside the Magnolia Library&rsquo\;s community room\, you&rsquo\;ll find <strong>24 talented local artisans\, crafters\, and makers</strong> offering handmade gifts\, crafts\, and treats. Outside\, Lexington Avenue will come alive with <strong>live music\, antique cars\, food trucks\, and a beer garden</strong>&mdash\;a perfect day to shop local and enjoy the festival atmosphere!</p>\n\n<p><strong>Participating Vendors:</strong><br />\nAngies Alpaca &bull\; Ardizzoni Photography &bull\; Cape Ann Sea Salt &bull\; Crafty Teacher &bull\; Deb Debski Designs &bull\; Dragonfly Designs &bull\; Essex Knits and Knots &bull\; Glass After Hours &bull\; Glosta Seaglass Creations &bull\; Hold Fast Company &bull\; Lauralee&#39\;s Country Kitchen &bull\; Lily Johannsen Designs &bull\; Mosaics Gloucester &bull\; Nala Designs Metalwork &bull\; Pat D&#39\;s Photos &bull\; Petdoc Pottery &bull\; Sargents Sweets &bull\; Savanti Healing &bull\; Selkie Handknits &bull\; Sew Nice &bull\; Spark Joy Jillian Candles &bull\; Stockingfoot Knits &bull\; The Rooster&#39\;s Closet &bull\; Three Gingers Beef Jerky</p>\n\n<p><strong>Shop local\, support Cape Ann&rsquo\;s makers\, and enjoy a fun-filled day in Magnolia!</strong></p>\n
LOCATION:Magnolia Library & Community Center\, 1 Lexington Avenue\, Gloucester
UID:e.2981.43145
SEQUENCE:3
DTSTAMP:20260425T024141Z
URL:https://business.capeannchamber.com/events/details/cape-ann-makers-market-at-magtoberfest-43145
END:VEVENT

END:VCALENDAR
