BEGIN:VCALENDAR
VERSION:2.0
PRODID:-//ChamberMaster//Event Calendar 2.0//EN
METHOD:PUBLISH
X-PUBLISHED-TTL:P3D
REFRESH-INTERVAL:P3D
CALSCALE:GREGORIAN
BEGIN:VEVENT
DTSTART:20211010T150000Z
DTEND:20211010T210000Z
X-MICROSOFT-CDO-ALLDAYEVENT:FALSE
SUMMARY:Cape Ann Maker Market at Magtober Fest
DESCRIPTION:Makers Market - Farmer Market - Food Trucks - Beer Garden - Live Music - Antique Car Show \n\nThe Magnolia Community Farmer's Market in partnership with the Magnolia Library & Community Center and Cape Ann Makers Market will be hosting a block party on Lexington Avenue on Sunday\, October 10th from 11 am to  5 pm.  \n\nCape Ann Makers has lined us over 24 local artisans\, crafters and makers\, featuring jewelry\, pottery\, printing\, painting\, photography\, woodworking\, stained glass\, fiber arts\, handcrafted salts\, body care and much more. Jump start your holiday shopping at the Maker Market inside the Magnolia Library. \n\n\n\nStroll along Lexington Ave and check out over 20 antique cars\, kids fun area\, local farm stands\, and enjoy food from Classic Cooks\, The Eclectic Clam\, Butter Ur biscuit\, 525\,  and Sacred Cod. Don't miss the Notch Mobile Biergarten complete with music by local musicians Anderson-Gram followed by\, Allen Estes and Mike O'Connel with Groove Therapy closing out the block party.   \n\nFunds from this event benefit the Magnolia Library & Community Center Capital Campaign.
X-ALT-DESC;FMTTYPE=text/html:<p style="text-align:center"><span style="font-size:12px"><span style="font-family:arial\,helvetica\,sans-serif"><strong>Makers Market - Farmer Market - Food Trucks - Beer Garden - Live Music - Antique Car Show</strong> </span></span></p>\n\n<p><span style="font-size:12px"><span style="font-family:arial\,helvetica\,sans-serif">The <strong>Magnolia Community Farmer&#39\;s Market </strong>in partnership with the <strong>Magnolia Library &amp\; Community Center</strong> and <strong>Cape Ann Makers Market </strong>will be hosting a block party on Lexington Avenue on <strong>Sunday\, October 10th from 11 am to&nbsp\; 5 pm</strong>.&nbsp\;&nbsp\;</span></span></p>\n\n<p><span style="font-size:12px"><span style="font-family:arial\,helvetica\,sans-serif">Cape Ann Makers has lined us over 24 local artisans\, crafters and makers\, featuring&nbsp\;<span style="color:#1D2129">jewelry\, pottery\, printing\, painting\, photography\, woodworking\, stained glass\, fiber arts\, handcrafted salts\, body care and much more. Jump start&nbsp\;</span>your holiday shopping at the Maker Market inside the Magnolia Library.&nbsp\;<br />\n<br />\nStroll along Lexington Ave and check out over 20 antique cars\, kids fun area\, local farm stands\, and enjoy food from Classic Cooks\, The Eclectic Clam\, Butter Ur biscuit\, 525\,&nbsp\; and Sacred Cod. Don&rsquo\;t miss the Notch Mobile Biergarten complete with music by local musicians Anderson-Gram followed by\, Allen Estes and Mike O&rsquo\;Connel with Groove Therapy closing out the block party.&nbsp\; &nbsp\;</span></span></p>\n\n<p><span style="font-size:12px"><span style="font-family:arial\,helvetica\,sans-serif">Funds from this event benefit the Magnolia Library &amp\; Community Center Capital Campaign.&nbsp\;&nbsp\;</span></span></p>\n
LOCATION:Inside the Magnolia Library & Community Center and street side along Lexington Avenue\, Gloucester\, MA.
UID:e.2981.21372
SEQUENCE:3
DTSTAMP:20260424T110754Z
URL:https://business.capeannchamber.com/events/details/cape-ann-maker-market-at-magtober-fest-21372
END:VEVENT

END:VCALENDAR
