BEGIN:VCALENDAR
VERSION:2.0
PRODID:-//ChamberMaster//Event Calendar 2.0//EN
METHOD:PUBLISH
X-PUBLISHED-TTL:P3D
REFRESH-INTERVAL:P3D
CALSCALE:GREGORIAN
BEGIN:VEVENT
DTSTART:20250816T223000Z
DTEND:20250817T010000Z
X-MICROSOFT-CDO-ALLDAYEVENT:FALSE
SUMMARY:Cape Ann Community Band Viet Nam 50th Anniversary
DESCRIPTION:Viet Nam 50th Anniversary Concert featuring the Cape Ann Community Band\n\nAntonio Gentile Bandstand
X-ALT-DESC;FMTTYPE=text/html:Viet Nam 50th Anniversary Concert featuring the Cape Ann Community Band<br />\nAntonio Gentile Bandstand
LOCATION:Antonio Gentile Bandstand Stage Fort Park Gloucester\, MA
UID:e.2981.41379
SEQUENCE:3
DTSTAMP:20260425T011310Z
URL:https://business.capeannchamber.com/events/details/cape-ann-community-band-viet-nam-50th-anniversary-41379
END:VEVENT

END:VCALENDAR
