BEGIN:VCALENDAR
VERSION:2.0
PRODID:-//ChamberMaster//Event Calendar 2.0//EN
METHOD:PUBLISH
X-PUBLISHED-TTL:P3D
REFRESH-INTERVAL:P3D
CALSCALE:GREGORIAN
BEGIN:VEVENT
DTSTART:20221001T130000Z
DTEND:20221001T180000Z
X-MICROSOFT-CDO-ALLDAYEVENT:FALSE
SUMMARY:Cape Ann Classic Cars on the Green
DESCRIPTION:EVENT DESCRIPTION\n\nThe fourth annual classic car show will take place on Meetinghouse Green on Saturday\, October 1 from 9:00 a.m. - 2:00 p.m. at the corner of Middle and Church Streets in Gloucester. This event is free to the public. (Rain date October 8)\n\n\n\nVintage and significant cars owned by North Shore collectors will be arrayed on Meetinghouse Green with opportunities to speak with owners and collectors. The audience will choose the trophy winners from nine categories including Best in Show. Trophies will be awarded to the winners at the conclusion of the show.\n\n\n\nTours of the Meetinghouse interior will be offered. Food and beverages are available at several restaurants and coffee shops nearby on Main Street.\n\n\n\nCLASSIC CAR REGISTRATION\n\nShow cars may be registered on the day of the event ($15) at the entrance at 50 Middle Street. Space is limited and advance registration is encouraged. Email: c.nazarian@gloucestermeetinghouse.org.
X-ALT-DESC;FMTTYPE=text/html:<p><strong>EVENT DESCRIPTION</strong><br />\nThe fourth annual classic car show will take place on Meetinghouse Green on Saturday\, October 1 from 9:00 a.m. - 2:00 p.m. at the corner of Middle and Church Streets in Gloucester. This event is free to the public. (Rain date October 8)<br />\n<br />\nVintage and significant cars owned by North Shore collectors will be arrayed on Meetinghouse Green with opportunities to speak with owners and collectors. The audience will choose the trophy winners from nine categories including Best in Show. Trophies will be awarded to the winners at the conclusion of the show.<br />\n<br />\nTours of the Meetinghouse interior will be offered. Food and beverages are available at several restaurants and coffee shops nearby on Main Street.<br />\n<br />\n<strong>CLASSIC CAR REGISTRATION</strong><br />\nShow cars may be registered on the day of the event ($15) at the entrance at 50 Middle Street. Space is limited and advance registration is encouraged. Email: c.nazarian@gloucestermeetinghouse.org.<br />\n<br />\n<br />\n&nbsp\;</p>\n
LOCATION:Meetinghouse Green at the corner of Middle and Church Streets in Gloucester.
UID:e.2981.22983
SEQUENCE:3
DTSTAMP:20260424T124112Z
URL:https://business.capeannchamber.com/events/details/cape-ann-classic-cars-on-the-green-10-01-2022-22983
END:VEVENT

END:VCALENDAR
