BEGIN:VCALENDAR
VERSION:2.0
PRODID:-//ChamberMaster//Event Calendar 2.0//EN
METHOD:PUBLISH
X-PUBLISHED-TTL:P3D
REFRESH-INTERVAL:P3D
CALSCALE:GREGORIAN
BEGIN:VEVENT
DTSTART:20131208T200000Z
DTEND:20131208T200000Z
X-MICROSOFT-CDO-ALLDAYEVENT:FALSE
SUMMARY:Cape Ann Big Band Holiday Show
DESCRIPTION:Cape Ann Big Band Holiday Show\nSunday\, December 8\, 3 & 7 PM\n\nEnjoy the holidays with Cape Ann's own 17-piece big band performing holiday favorites\, old and new\, infused with a bit of jazz\, swing\, and rock n' roll.  \n \nTickets: $34\, $28\, $19
X-ALT-DESC;FMTTYPE=text/html:Cape Ann Big Band Holiday Show\nSunday\, December 8\, 3 & 7 PM\n\nEnjoy the holidays with Cape Ann's own 17-piece big band performing holiday favorites\, old and new\, infused with a bit of jazz\, swing\, and rock n' roll.  \n \nTickets: $34\, $28\, $19\n
LOCATION:Shalin Liu Performance Center\, Rockport\, MA 01966 Travelling by Car: Rockport is 45 miles from downtown Boston. Drive north on Route 128 (through two rotaries) to the traffic light in Gloucester. At the traffic light\, turn left onto Route 127. Drive 4 miles to Rockport. Continue through “Five Corners” onto Route 127A (Broadway) toward the harbor. It’s a slight vere to the right. At the stop sign at Mt. Pleasant Street (lighthouse in median)\, turn left and then bear left onto Main Street. The Shalin Liu Performance Center is on the right at 37 Main Street. Travelling by Train: Rockport is accessible by commuter rail from Boston and other Northshore towns. The commuter rail originates from North Station on the Green line in Boston. The train station is ½ mile walk to the concert hall. Walking Directions from Rockport Train Station: Leave Rockport Commuter Rail Station and turn left onto Railroad Avenue. Turn right onto King Street for and then turn right onto Beach Street (Atlantic Ocean and Front Beach on other side of Beach Street). Follow Beach Street and the Shalin Liu Performance Center will be on your left after you’ve merged onto Main Street. The Congregational Church is across the street.
UID:e.2981.1071
SEQUENCE:3
DTSTAMP:20260420T033701Z
URL:https://business.capeannchamber.com/events/details/cape-ann-big-band-holiday-show-12-08-2013-1071
END:VEVENT

END:VCALENDAR
