BEGIN:VCALENDAR
VERSION:2.0
PRODID:-//ChamberMaster//Event Calendar 2.0//EN
METHOD:PUBLISH
X-PUBLISHED-TTL:P3D
REFRESH-INTERVAL:P3D
CALSCALE:GREGORIAN
BEGIN:VEVENT
DTSTART:20241207T000000Z
DTEND:20241208T020000Z
X-MICROSOFT-CDO-ALLDAYEVENT:FALSE
SUMMARY:Cape Ann Big Band Holiday
DESCRIPTION:Enjoy the holidays with Cape Ann's own 17-piece big band performing holiday favorites\, old and new\, infused with a bit of jazz\, swing and rock n' roll. In just a short span of time\, the Cape Ann Big Band has become one of the most sought-after ensembles on the North Shore.
X-ALT-DESC;FMTTYPE=text/html:<span style="font-size:14px"><span style="background-color:rgb(250\, 250\, 250)\; color:rgb(0\, 0\, 0)\; font-family:open sans\,helvetica neue\,helvetica\,arial\,sans-serif">Enjoy the holidays with Cape Ann&rsquo\;s own 17-piece big band performing holiday favorites\, old and new\, infused with a bit of jazz\, swing and rock n&rsquo\; roll. In just a short span of time\, the Cape Ann Big Band has become one of the most sought-after ensembles on the North Shore.</span></span>
LOCATION:37 Main St\, Rockport\, MA 01966
UID:e.2981.33164
SEQUENCE:3
DTSTAMP:20260424T152712Z
URL:https://business.capeannchamber.com/events/details/cape-ann-big-band-holiday-12-06-2024-33164
END:VEVENT

END:VCALENDAR
