BEGIN:VCALENDAR
VERSION:2.0
PRODID:-//ChamberMaster//Event Calendar 2.0//EN
METHOD:PUBLISH
X-PUBLISHED-TTL:P3D
REFRESH-INTERVAL:P3D
CALSCALE:GREGORIAN
BEGIN:VEVENT
DTSTART:20250920T170000Z
DTEND:20250920T200000Z
X-MICROSOFT-CDO-ALLDAYEVENT:FALSE
SUMMARY:Cape Ann at the Center of the Revolution
DESCRIPTION:Saturday\, September 20\, 2025\n\n1:00 p.m.   4:00 p.m.\n\nCAM Green\n\n13 Poplar Street\, Gloucester\, MA \n\nFree and open to the public.  \n\nParking is first come first served. \n\nJoin us on the CAM Green for activities focusing on five key events leading up to the American Revolutionary War through the lens of local history. \n\nActivities include creating broadsides\, trying out 18th century calligraphy flourishes\, making mini-ships to navigate a map of the harbor\, learning a Colonial dice game\, and more. \n\nLearn about the Stamp Act of 1765\, the Saville Incidents of 1768 and 1770\, the Tea Act of 1773\, the Boston Port Bill of 1774\, and the pivotal year of 1775\, all while discovering how these important historic moments affected Cape Ann residents\, and how local citizens rose to the occasion. \n\nThis program is being offered in collaboration with Essex Heritage's Trails & Sails event. Discover more of Essex County at the Trails & Sails website. \n\n \n\nImage Credit: Bunker Hill Badge\, Owned by Benjamin Webber (1756-1841)\, c.1825\, Silk. Gift of Caroline A. Webber\, 1930 [579.02].
X-ALT-DESC;FMTTYPE=text/html:<p>Saturday\, September 20\, 2025<br />\n1:00 p.m. &ndash\; 4:00 p.m.<br />\n<a href="https://www.capeannmuseum.org/visit/cam-green-campus/" style="box-sizing: border-box\; margin: 0px\; padding: 0px\; border-width: 0px 0px 1px\; border-top-style: initial\; border-right-style: initial\; border-bottom-style: solid\; border-left-style: initial\; border-color: rgb(211\, 211\, 211)\; border-image: initial\; font-variant: inherit\; font-weight: inherit\; font-stretch: inherit\; font-size: inherit\; line-height: inherit\; font-family: inherit\; font-optical-sizing: inherit\; font-size-adjust: inherit\; font-kerning: inherit\; font-feature-settings: inherit\; font-variation-settings: inherit\; vertical-align: baseline\; text-decoration-line: none\; outline: 0px\; max-width: 100%\; color: rgb(37\, 119\, 160)\; transition: color 0.2s\;">CAM Green</a><br />\n13 Poplar Street\, Gloucester\, MA&nbsp\;<br />\n<em>Free and open to the public.&nbsp\;&nbsp\;</em><br />\n<em>Parking is first come first served.&nbsp\;</em></p>\n\n<p>Join us on the CAM Green for activities focusing on five key events leading up to the American Revolutionary War through the lens of local history.&nbsp\;</p>\n\n<p>Activities include creating broadsides\, trying out 18th century calligraphy flourishes\, making mini-ships to navigate a map of the harbor\, learning a Colonial dice game\, and more.&nbsp\;</p>\n\n<p>Learn about the Stamp Act of 1765\, the Saville Incidents of 1768 and 1770\, the Tea Act of 1773\, the Boston Port Bill of 1774\, and the pivotal year of 1775\, all while discovering how these important historic moments affected Cape Ann residents\, and how local citizens rose to the occasion.&nbsp\;</p>\n\n<p>This program is being offered in collaboration with Essex Heritage&rsquo\;s Trails &amp\; Sails event. Discover more of Essex County at the&nbsp\;<a href="https://trailsandsails.org/" style="box-sizing: border-box\; margin: 0px\; padding: 0px\; border-width: 0px 0px 1px\; border-top-style: initial\; border-right-style: initial\; border-bottom-style: solid\; border-left-style: initial\; border-color: rgb(211\, 211\, 211)\; border-image: initial\; font-variant: inherit\; font-weight: inherit\; font-stretch: inherit\; font-size: inherit\; line-height: inherit\; font-family: inherit\; font-optical-sizing: inherit\; font-size-adjust: inherit\; font-kerning: inherit\; font-feature-settings: inherit\; font-variation-settings: inherit\; vertical-align: baseline\; text-decoration-line: none\; outline: 0px\; max-width: 100%\; color: rgb(37\, 119\, 160)\; transition: color 0.2s\;">Trails &amp\; Sails website</a>.&nbsp\;</p>\n\n<p>&nbsp\;</p>\n\n<p><em>Image Credit: Bunker Hill Badge\, Owned by Benjamin Webber (1756-1841)\, c.1825\, Silk. Gift of Caroline A. Webber\, 1930 [579.02].</em></p>\n
LOCATION:CAM Green 13 Poplar Street\, Gloucester\, MA
UID:e.2981.37411
SEQUENCE:3
DTSTAMP:20260425T011615Z
URL:https://business.capeannchamber.com/events/details/cape-ann-at-the-center-of-the-revolution-09-20-2025-37411
END:VEVENT

END:VCALENDAR
