BEGIN:VCALENDAR
VERSION:2.0
PRODID:-//ChamberMaster//Event Calendar 2.0//EN
METHOD:PUBLISH
X-PUBLISHED-TTL:P3D
REFRESH-INTERVAL:P3D
CALSCALE:GREGORIAN
BEGIN:VEVENT
DTSTART:20250607T140000Z
DTEND:20250608T210000Z
X-MICROSOFT-CDO-ALLDAYEVENT:FALSE
SUMMARY:Cape Ann Artisans Tour
DESCRIPTION:First Cape Ann Artisan Tour for 2025 with 14 home studios open for tours\n\n\n\nCape Ann Artisans are part of a vibrant arts community\, located along the scenic North Shore of Massachusetts. The Tour is self-guided of artists' studios in Gloucester and Rockport. Both areas are also home to three important Massachusetts designated Cultural Districts   downtown Gloucester\, downtown Rockport\, and Rocky Neck.\n\n\n\n2025 marks the 42nd year for the Cape Ann Artisan Tour as the oldest "open studios" in the country.
X-ALT-DESC;FMTTYPE=text/html:<span style="font-size:14px\;">First Cape Ann Artisan Tour for 2025 with 14 home studios open for tours<br />\n<br />\nCape Ann Artisans are part of a vibrant arts community\, located along the scenic North Shore of Massachusetts. The Tour is self-guided of artists&rsquo\; studios in Gloucester and Rockport. Both areas are also home to three important Massachusetts designated&nbsp\;<strong><a href="http://www.massculturalcouncil.org/services/cultural_districts.asp" target="_blank">Cultural Districts</a></strong>&nbsp\;&ndash\; downtown Gloucester\, downtown Rockport\, and Rocky Neck.</span><br />\n<br />\n<span style="font-size:14px\;"><span style="font-family:aptos\,sans-serif\;">2025 marks the 42<sup>nd</sup>&nbsp\;year for the Cape Ann Artisan Tour as the oldest &ldquo\;open studios&rdquo\; in the country.</span></span>
LOCATION:
UID:e.2981.36577
SEQUENCE:3
DTSTAMP:20260424T211102Z
URL:https://business.capeannchamber.com/events/details/cape-ann-artisans-tour-36577
END:VEVENT

END:VCALENDAR
