BEGIN:VCALENDAR
VERSION:2.0
PRODID:-//ChamberMaster//Event Calendar 2.0//EN
METHOD:PUBLISH
X-PUBLISHED-TTL:P3D
REFRESH-INTERVAL:P3D
CALSCALE:GREGORIAN
BEGIN:VEVENT
DTSTART:20250809T140000Z
DTEND:20250809T210000Z
X-MICROSOFT-CDO-ALLDAYEVENT:FALSE
SUMMARY:Cape Ann Artisans Summer Mini Tour
DESCRIPTION:Meet the artists in their studios and enjoy Gloucester and Rockport's scenic summer neighborhoods!\n\n\n\nJoin this group of seven Cape Ann Artisans for the Summer Mini-Tour!\n\nEnjoy savings during the Massachusetts Sales Tax Holiday weekend.\n\n\n\nJohn Abisamra\n\nDavid Archibald\n\nCynthia Curtis\n\nJacqueline Ganim-DeFalco\n\nCindy Efinger\n\nNina Goodick\n\nPam Stratton\n\n\n\nVisit http://capeannartisans.com
X-ALT-DESC;FMTTYPE=text/html:<span style="font-size:20px\;"><span style="color:#000080\;"><strong>Meet the artists in their studios and enjoy Gloucester and Rockport&#39\;s scenic summer neighborhoods!</strong></span></span><br />\n<br />\n<span style="font-size:16px\;">Join this group of seven <span style="color:#000080\;"><strong>Cape Ann Artisans</strong></span> for the <span style="color:#000080\;"><strong>Summer Mini-Tour!</strong></span></span><br />\nEnjoy savings during the Massachusetts Sales Tax Holiday weekend.<br />\n<br />\nJohn Abisamra<br />\nDavid Archibald<br />\nCynthia Curtis<br />\nJacqueline Ganim-DeFalco<br />\nCindy Efinger<br />\nNina Goodick<br />\nPam Stratton<br />\n<br />\nVisit&nbsp\;<a href="http://capeannartisans.com">http://capeannartisans.com</a>
LOCATION:Various studios through Gloucester and Rockport
UID:e.2981.37423
SEQUENCE:3
DTSTAMP:20260424T235258Z
URL:https://business.capeannchamber.com/events/details/cape-ann-artisans-summer-mini-tour-37423
END:VEVENT

END:VCALENDAR
