BEGIN:VCALENDAR
VERSION:2.0
PRODID:-//ChamberMaster//Event Calendar 2.0//EN
METHOD:PUBLISH
X-PUBLISHED-TTL:P3D
REFRESH-INTERVAL:P3D
CALSCALE:GREGORIAN
BEGIN:VEVENT
DTSTART:20250427T190000Z
DTEND:20250427T210000Z
X-MICROSOFT-CDO-ALLDAYEVENT:FALSE
SUMMARY:Cann Piano Duo
DESCRIPTION:Avid recitalists\, chamber musicians and educators\, sisters Michelle and Kimberly Cann bring a program of such classical favorites as Bach\, Strauss and Bernstein as well as moving arrangements like Let My People Go and a Fantasy on George Gershwin's Songs.
X-ALT-DESC;FMTTYPE=text/html:<p><span style="background-color:rgb(250\, 250\, 250)\; color:rgb(0\, 0\, 0)\; font-family:open sans\,helvetica neue\,helvetica\,arial\,sans-serif\; font-size:18px">Avid recitalists\, chamber musicians and educators\, sisters Michelle and Kimberly Cann bring a program of such classical favorites as Bach\, Strauss and Bernstein as well as moving arrangements like&nbsp\;</span><em>Let My People Go</em><span style="background-color:rgb(250\, 250\, 250)\; color:rgb(0\, 0\, 0)\; font-family:open sans\,helvetica neue\,helvetica\,arial\,sans-serif\; font-size:18px">&nbsp\;and a Fantasy on George Gershwin&rsquo\;s Songs.</span></p>\n
LOCATION:37 Main St\, Rockport\, MA 01966
UID:e.2981.35186
SEQUENCE:3
DTSTAMP:20260424T140242Z
URL:https://business.capeannchamber.com/events/details/cann-piano-duo-35186
END:VEVENT

END:VCALENDAR
