BEGIN:VCALENDAR
VERSION:2.0
PRODID:-//ChamberMaster//Event Calendar 2.0//EN
METHOD:PUBLISH
X-PUBLISHED-TTL:P3D
REFRESH-INTERVAL:P3D
CALSCALE:GREGORIAN
BEGIN:VEVENT
DTSTART:20250713T220000Z
DTEND:20250714T000000Z
X-MICROSOFT-CDO-ALLDAYEVENT:FALSE
SUMMARY:Candle Magic Course
DESCRIPTION:Explore the enchanting world of candle magic with our comprehensive Candle Casting Course. Delve into the art of harnessing the mystical energies of candles to manifest your desires and intentions. Our course covers a wide range of topics\, from selecting the right candles to performing intricate rituals. Gain valuable knowledge and skills that will empower you to create your own magical candles and perform effective spells. Elevate your spiritual practice and unlock the secrets of candle magic with our expert-led course. Enroll now and illuminate your path to a deeper understanding of this ancient and mystical art.
X-ALT-DESC;FMTTYPE=text/html:<p>Explore the enchanting world of candle magic with our comprehensive Candle Casting Course. Delve into the art of harnessing the mystical energies of candles to manifest your desires and intentions. Our course covers a wide range of topics\, from selecting the right candles to performing intricate rituals. Gain valuable knowledge and skills that will empower you to create your own magical candles and perform effective spells. Elevate your spiritual practice and unlock the secrets of candle magic with our expert-led course. Enroll now and illuminate your path to a deeper understanding of this ancient and mystical art.</p>\n
LOCATION:Apothecary Suil Crow 9 Whistlestop Mall Rockport MA 01966
UID:e.2981.36608
SEQUENCE:3
DTSTAMP:20260424T222752Z
URL:https://business.capeannchamber.com/events/details/candle-magic-course-36608
END:VEVENT

END:VCALENDAR
