BEGIN:VCALENDAR
VERSION:2.0
PRODID:-//ChamberMaster//Event Calendar 2.0//EN
METHOD:PUBLISH
X-PUBLISHED-TTL:P3D
REFRESH-INTERVAL:P3D
CALSCALE:GREGORIAN
BEGIN:VEVENT
DTSTART:20250915T230000Z
DTEND:20250916T010000Z
X-MICROSOFT-CDO-ALLDAYEVENT:FALSE
SUMMARY:CANCELLED: Ipswich Shellfish Community Stakeholders Listening Session
DESCRIPTION:CANCELLED: TO BE RESCHEDULED\n\n\n\nPlease be advised the recently advertised September 15\, 2025 Shellfish Community Stakeholder Listen Session is cancelled and will be rescheduled for a future date.  \n\n\n\nThe town of Ipswich is hosting a Shellfish Community Stakeholder Listening Session.  Invitees will include local State Senators and Representatives\, commercial shellfish license holders\, Select Board members\, local shellfish distributors\, and the business community.
X-ALT-DESC;FMTTYPE=text/html:CANCELLED: TO BE RESCHEDULED<br />\n<br />\nPlease be advised the recently advertised September 15\, 2025 Shellfish Community Stakeholder Listen Session is cancelled and will be rescheduled for a future date.&nbsp\;&nbsp\;<br />\n<br />\nThe town of Ipswich is hosting a Shellfish Community Stakeholder Listening Session.&nbsp\; Invitees will include local State Senators and Representatives\, commercial shellfish license holders\, Select Board members\, local shellfish distributors\, and the business community.
LOCATION:Ipswich Town Hall\, Meeting Room A
UID:e.2981.37460
SEQUENCE:3
DTSTAMP:20260422T104805Z
URL:https://business.capeannchamber.com/events/details/cancelled-ipswich-shellfish-community-stakeholders-listening-session-37460
END:VEVENT

END:VCALENDAR
